BEGIN:VCALENDAR
PRODID:NingEventWidget-v1
VERSION:2.0
METHOD:PUBLISH
BEGIN:VTIMEZONE
TZID:America/Los_Angeles
X-LIC-LOCATION:America/Los_Angeles
BEGIN:DAYLIGHT
TZOFFSETFROM:-0800
TZOFFSETTO:-0700
TZNAME:PDT
DTSTART:19700308T020000
RRULE:FREQ=YEARLY;BYMONTH=3;BYDAY=2SU
END:DAYLIGHT
BEGIN:STANDARD
TZOFFSETFROM:-0700
TZOFFSETTO:-0800
TZNAME:PST
DTSTART:19701101T020000
RRULE:FREQ=YEARLY;BYMONTH=11;BYDAY=1SU
END:STANDARD
END:VTIMEZONE
BEGIN:VEVENT
UID:1464587:Event:444237
DTSTAMP:20260421T003044Z
SUMMARY:Flatbush Zombies + The Underachievers
DESCRIPTION:Brooklyn's own Flatbush Zombies and The Underachievers hav
 e teamed as Clockwork Indigo. Their co-headlining tour, \"The Electric
  Koolade Experience\" hits Oakland, CA on November 4. \n\nFor more in
 formation visit https://trueskool.com/events/flatbush-zombies-the-unde
 rachievers
DTSTART;TZID=America/Los_Angeles:20141104T190000
DTEND;TZID=America/Los_Angeles:20141105T010000
CATEGORIES:"flatbush zombies", "the underachievers", "clockwork indigo
 ", oakland, "bay area", "hip hop"
LOCATION:Oakland Metro
WEBSITE:http://www.ticketfly.com/purchase/event/668393
URL:http://www.ticketfly.com/purchase/event/668393
CONTACT:510-763-1146
ORGANIZER:Ineffable Music Group
ATTACH;FMTTYPE="image/jpeg":http://storage.ning.com/topology/rest/1.0/
 file/get/2247969131?profile=original
ATTENDEE;ROLE=REQ-PARTICIPANT;PARTSTAT=ACCEPTED;RSVP=TRUE;CN="Marina H
 arrison":https://trueskool.com/profile/MarinaHarrison
END:VEVENT
END:VCALENDAR
