BEGIN:VCALENDAR
PRODID:NingEventWidget-v1
VERSION:2.0
METHOD:PUBLISH
BEGIN:VTIMEZONE
TZID:America/Los_Angeles
X-LIC-LOCATION:America/Los_Angeles
BEGIN:DAYLIGHT
TZOFFSETFROM:-0800
TZOFFSETTO:-0700
TZNAME:PDT
DTSTART:19700308T020000
RRULE:FREQ=YEARLY;BYMONTH=3;BYDAY=2SU
END:DAYLIGHT
BEGIN:STANDARD
TZOFFSETFROM:-0700
TZOFFSETTO:-0800
TZNAME:PST
DTSTART:19701101T020000
RRULE:FREQ=YEARLY;BYMONTH=11;BYDAY=1SU
END:STANDARD
END:VTIMEZONE
BEGIN:VEVENT
UID:1464587:Event:842201
DTSTAMP:20260421T034244Z
SUMMARY:FKA TWIGS
DESCRIPTION:FKA TWIGS\r\nTuesday, April 07, 2026 Doors: 7:00pm | Show:
  8:00pm\r\nBill Graham Civic Auditorium 99 Grove St, San Francisco, CA
 \n\nFor more information visit https://trueskool.com/events/fka-twigs-
 1
DTSTART;TZID=America/Los_Angeles:20260407T200000
DTEND;TZID=America/Los_Angeles:20260407T230000
CATEGORIES:"bay area", oakland, "san francisco", "san jose", berkeley
LOCATION:Bill Graham Civic Auditorium, San Francisco
WEBSITE:https://apeconcerts.com/events/fka-twigs-260407/
URL:https://apeconcerts.com/events/fka-twigs-260407/
CONTACT:
ORGANIZER;CN="Editor's Pick":https://trueskool.com/profile/RentheVinyl
 Archaeologist
ATTACH;FMTTYPE="image/jpeg":https://storage.ning.com/topology/rest/1.0
 /file/get/31084919880?profile=original
ATTENDEE;ROLE=REQ-PARTICIPANT;PARTSTAT=ACCEPTED;RSVP=TRUE;CN="Editor's
  Pick":https://trueskool.com/profile/RentheVinylArchaeologist
END:VEVENT
END:VCALENDAR
