BEGIN:VCALENDAR
PRODID:NingEventWidget-v1
VERSION:2.0
METHOD:PUBLISH
BEGIN:VTIMEZONE
TZID:America/Los_Angeles
X-LIC-LOCATION:America/Los_Angeles
BEGIN:DAYLIGHT
TZOFFSETFROM:-0800
TZOFFSETTO:-0700
TZNAME:PDT
DTSTART:19700308T020000
RRULE:FREQ=YEARLY;BYMONTH=3;BYDAY=2SU
END:DAYLIGHT
BEGIN:STANDARD
TZOFFSETFROM:-0700
TZOFFSETTO:-0800
TZNAME:PST
DTSTART:19701101T020000
RRULE:FREQ=YEARLY;BYMONTH=11;BYDAY=1SU
END:STANDARD
END:VTIMEZONE
BEGIN:VEVENT
UID:1464587:Event:842366
DTSTAMP:20260421T022654Z
SUMMARY:FISHBONE - IN YOUR FACE 40TH ANNIVERSARY TOUR
DESCRIPTION:FISHBONE - IN YOUR FACE 40TH ANNIVERSARY TOUR\r\nTHURSDAY,
  APRIL 9, 2026 7:00 pm | Doors: 6:00 pm\r\nAUGUST HALL 420 Mason Stree
 t, San Francisco, CA 94102\n\nFor more information visit https://trues
 kool.com/events/fishbone-in-your-face-40th-anniversary-tour
DTSTART;TZID=America/Los_Angeles:20260409T180000
DTEND;TZID=America/Los_Angeles:20260409T230000
CATEGORIES:"bay area", oakland, "san francisco", "san jose", berkeley
LOCATION:AUGUST HALL, SF
WEBSITE:https://www.ticketmaster.com/fishbone-in-your-face-40th-annive
 rsary-san-francisco-california-04-09-2026/event/1C006427BE139EBC
URL:https://www.ticketmaster.com/fishbone-in-your-face-40th-anniversar
 y-san-francisco-california-04-09-2026/event/1C006427BE139EBC
CONTACT:
ORGANIZER;CN="Editor's Pick":https://trueskool.com/profile/RentheVinyl
 Archaeologist
ATTACH;FMTTYPE="image/jpeg":https://storage.ning.com/topology/rest/1.0
 /file/get/31086323085?profile=original
ATTENDEE;ROLE=REQ-PARTICIPANT;PARTSTAT=ACCEPTED;RSVP=TRUE;CN="Editor's
  Pick":https://trueskool.com/profile/RentheVinylArchaeologist
END:VEVENT
END:VCALENDAR
