BEGIN:VCALENDAR
PRODID:NingEventWidget-v1
VERSION:2.0
METHOD:PUBLISH
BEGIN:VTIMEZONE
TZID:America/Los_Angeles
X-LIC-LOCATION:America/Los_Angeles
BEGIN:DAYLIGHT
TZOFFSETFROM:-0800
TZOFFSETTO:-0700
TZNAME:PDT
DTSTART:19700308T020000
RRULE:FREQ=YEARLY;BYMONTH=3;BYDAY=2SU
END:DAYLIGHT
BEGIN:STANDARD
TZOFFSETFROM:-0700
TZOFFSETTO:-0800
TZNAME:PST
DTSTART:19701101T020000
RRULE:FREQ=YEARLY;BYMONTH=11;BYDAY=1SU
END:STANDARD
END:VTIMEZONE
BEGIN:VEVENT
UID:1464587:Event:330807
DTSTAMP:20260421T082818Z
SUMMARY:FIRST LIGHT
DESCRIPTION:Nohokai Productions and RG Recordings Present: FIRST LIGHT
 \nHiero's Pep Love & OPIO + Amp Live of ZION-I  Hosted and Perfor
 mances by Z-MAN + PURE POWERS  With DJ LEX & the Fonki Cheff,  Nokok
 ai, Iamae, Philly, and more performances TBA...  ***CASH PRIZE TWERK 
 CONTEST***\nFriday Mar 28, 2014 9:00PM Cost $15\n\nRise and shine for
  First Light is on the horizon. Opio and Pep Love of the famed Hierogl
 yphics hip hop collective have joined forces to illuminate the day and
  expound upon the Hiero theme of random acts of musical collaboration.
  First Light gets its cue from the braggadocio and conceptual characte
 ristics that were commonly expressed in the early nineties \"Golden Er
 a\" of hip hop.\n\nhttp://hieroglyphics.com/blog/first-light-performin
 g-in-santa-rosa-next-month#sthash.zmZRhAbh.dpuf\n\nFor more informatio
 n visit https://trueskool.com/events/first-light
DTSTART;TZID=America/Los_Angeles:20140328T180000
DTEND;TZID=America/Los_Angeles:20140328T190000
CATEGORIES:chrome, lotus
LOCATION:Chrome Lotus
WEBSITE:http://www.ticketfly.com/purchase/event/507571
URL:http://www.ticketfly.com/purchase/event/507571
CONTACT:707-843-5643
ORGANIZER:Freecity
ATTACH;FMTTYPE="image/jpeg":http://storage.ning.com/topology/rest/1.0/
 file/get/2247959889?profile=original
ATTENDEE;ROLE=REQ-PARTICIPANT;PARTSTAT=ACCEPTED;RSVP=TRUE;CN="Ruth A":
 https://trueskool.com/profile/RuthA
END:VEVENT
END:VCALENDAR
