BEGIN:VCALENDAR
PRODID:NingEventWidget-v1
VERSION:2.0
METHOD:PUBLISH
BEGIN:VTIMEZONE
TZID:America/Los_Angeles
X-LIC-LOCATION:America/Los_Angeles
BEGIN:DAYLIGHT
TZOFFSETFROM:-0800
TZOFFSETTO:-0700
TZNAME:PDT
DTSTART:19700308T020000
RRULE:FREQ=YEARLY;BYMONTH=3;BYDAY=2SU
END:DAYLIGHT
BEGIN:STANDARD
TZOFFSETFROM:-0700
TZOFFSETTO:-0800
TZNAME:PST
DTSTART:19701101T020000
RRULE:FREQ=YEARLY;BYMONTH=11;BYDAY=1SU
END:STANDARD
END:VTIMEZONE
BEGIN:VEVENT
UID:1464587:Event:42423
DTSTAMP:20260421T065745Z
SUMMARY:First Fridays @ Icon Ultra Lounge
DESCRIPTION:D. Entertainment and X2 Promotions present...\n\nEscape Fr
 idays\n\nHosted By X2 Models\n\nSpecial Performances by\n* Mr. Kee - w
 ww.myspace.com/mrkee\n* Kaotic - www.myspace.com/onekaotic\n\nBirthday
  shout out to Playa Mill\n\n$5 Grey Goose shots till 11pm\n\nFor Guest
 list, email dentertainmentsf@gmail.com\nFor Bottle Service, call 510-6
 95-9511\n\n21+ Dress Code Strictly Enforced\n\nFor more information vi
 sit https://trueskool.com/events/first-fridays-icon-ultra
DTSTART;TZID=America/Los_Angeles:20091106T220000
DTEND;TZID=America/Los_Angeles:20091107T020000
CATEGORIES:hip, hop, top, 40, mash-ups, latin, reggaeton
LOCATION:Icon Ultra Lounge
WEBSITE:http://www.iconloungesf.com
URL:http://www.iconloungesf.com
CONTACT:510-695-9511
ORGANIZER;CN="X2 Promotions":https://trueskool.com/profile/X2Promotion
 s
ATTACH;FMTTYPE="image/jpeg":http://storage.ning.com/topology/rest/1.0/
 file/get/2247868954?profile=original
ATTENDEE;ROLE=REQ-PARTICIPANT;PARTSTAT=ACCEPTED;RSVP=TRUE;CN="X2 Promo
 tions":https://trueskool.com/profile/X2Promotions
END:VEVENT
END:VCALENDAR
