BEGIN:VCALENDAR
PRODID:NingEventWidget-v1
VERSION:2.0
METHOD:PUBLISH
BEGIN:VTIMEZONE
TZID:America/Los_Angeles
X-LIC-LOCATION:America/Los_Angeles
BEGIN:DAYLIGHT
TZOFFSETFROM:-0800
TZOFFSETTO:-0700
TZNAME:PDT
DTSTART:19700308T020000
RRULE:FREQ=YEARLY;BYMONTH=3;BYDAY=2SU
END:DAYLIGHT
BEGIN:STANDARD
TZOFFSETFROM:-0700
TZOFFSETTO:-0800
TZNAME:PST
DTSTART:19701101T020000
RRULE:FREQ=YEARLY;BYMONTH=11;BYDAY=1SU
END:STANDARD
END:VTIMEZONE
BEGIN:VEVENT
UID:1464587:Event:239107
DTSTAMP:20260421T101355Z
SUMMARY:FIGHT CLUB SKRATCH BATTLES  w/ SPECIAL GUEST ~ DJ Q-BERT
DESCRIPTION:FIGHT CLUB SKRATCH BATTLES w/ LIVE PERFORMANCE FROM DJ Q-B
 ERT!!!\n\nENTRY FOR BATTLE HERE~> TTFIGHTCLUB@GMAIL.COM****$10 Entry F
 ee Required to battle****Midtown Barfly1119 21st St. - 18+ //21+ To Dr
 inkBUY $10 PRE-SALE GENERAL ADMISSION TICKETS HERE: http://www.brownp
 apertickets.com/event/449615*** Live art by Sacramento's own BURNER!!!
 FIGHT CLUB SKRATCH BATTLE PAGE~>> https://www.facebook.com/pages/Figh
 t-Club-Skratch-Edition/152740604753441MORE INFO~>>>If you come to Figh
 t Club you must know the rules!!!1st RULE: You talk about FIGHT CLUB.2
 nd RULE: You MUST PROMOTE FIGHT CLUB.3rd RULE: If someone stops or goe
 s limp, taps out for more than 2 bars, the fight is over.4th RULE: Onl
 y 2 Turntablists' to a fight.5th RULE: One Battle at a time.6th RULE: 
 NO Routine and NO SERATO.7th RULE: Battles will go on for 60 seconds, 
 2 rounds.8th RULE: If this is your first night at FIGHT CLUB and your 
 a Turntablist you HAVE to fight!!Now that you know the rules of the ba
 ttle! Prepare to FIGHT!ENTER HERE TO BATTLE~> TTFIGHTCLUB@GMAIL.COM\n\
 nFor more information visit https://trueskool.com/events/fight-club-sk
 ratch-battles-w-special-guest-dj-q-bert
DTSTART;TZID=America/Los_Angeles:20130831T190000
DTEND;TZID=America/Los_Angeles:20130901T003000
CATEGORIES:sacramento
LOCATION:Midtown Barfly
WEBSITE:http://www.brownpapertickets.com/event/449615
URL:http://www.brownpapertickets.com/event/449615
CONTACT:
ORGANIZER;CN="Rich Wing":https://trueskool.com/profile/RichWing159
ATTACH;FMTTYPE="image/jpeg":http://storage.ning.com/topology/rest/1.0/
 file/get/2247946107?profile=original
ATTENDEE;ROLE=REQ-PARTICIPANT;PARTSTAT=ACCEPTED;RSVP=TRUE;CN="Rich Win
 g":https://trueskool.com/profile/RichWing159
END:VEVENT
END:VCALENDAR
