BEGIN:VCALENDAR
PRODID:NingEventWidget-v1
VERSION:2.0
METHOD:PUBLISH
BEGIN:VTIMEZONE
TZID:America/Los_Angeles
X-LIC-LOCATION:America/Los_Angeles
BEGIN:DAYLIGHT
TZOFFSETFROM:-0800
TZOFFSETTO:-0700
TZNAME:PDT
DTSTART:19700308T020000
RRULE:FREQ=YEARLY;BYMONTH=3;BYDAY=2SU
END:DAYLIGHT
BEGIN:STANDARD
TZOFFSETFROM:-0700
TZOFFSETTO:-0800
TZNAME:PST
DTSTART:19701101T020000
RRULE:FREQ=YEARLY;BYMONTH=11;BYDAY=1SU
END:STANDARD
END:VTIMEZONE
BEGIN:VEVENT
UID:1464587:Event:323496
DTSTAMP:20260421T083746Z
SUMMARY:Fero (BAY AREA): Featuring J.Mitchell, Aima The Dreamer, Holly
  Saucy and Queens D. Light.
DESCRIPTION:FeRO kicks off on March 29th, and you're invited to take p
 art in the festivities. The Legionnaire Saloon (2272 Telegraph Ave) is
  our meeting spot for a night of fun and excitement. Come bring a gues
 t. This is going to be epic! \n\"Féro\" Live Music By - J.Mitchell,
  Aima The Dreamer, Holly Saucy and Queens D. Light. Cover $5 until 11
 pm 9- 2am _______ Aima the Dreamer has been rockin’ crowds for years
  as a vocalist and MC with groups such as J-Boogie’s Dubtronic Scien
 ce, The Mamaz, Goddess Alchemy Project and Jazz Mafia’s Brass, Bows 
 and Beats Hip-Hop Symphony. All of this in addition to her own solo pr
 oject has given her a variety of outlets with which to harness her ene
 rgy as not only a talented MC and vocalist, but also as a strong, femi
 nine woman who easily holds her own amongst a male-dominated industry.
  https://aimathedreamer.bandcamp.com/  Queens D.Light is a Oakland bas
 ed Mc & Filmmaker. Building w/ two collectives , Malidoma and Them Hel
 las, Queens is preparing to take over the world. https://soundcloud.co
 m/queens-d-light “Holly Saucy is one of the most talented and eclect
 ic sounding artists that I have ever heard and known. Kind of similar 
 to Andre 3000, Ladybug Mecca, Del the Funky Homosapien and Cee-lo, you
  don’t know what she is going to be dressed like or what notes she m
 ay hit ‘til she does it. You don’t know if she is going to rap, si
 ng or scream. In my opinion, a real creative artist always has you han
 ging on the edge of your seat waiting for what they are going to do ne
 xt. she without a doubt, does that. Holly Saucy recently released her 
 new album, “Death of a Mermaid,” which definitely has a different 
 sound from her usual 16 bars of rhymes and a sing song hook. It has a 
 ‘80s pop/’90s alternative sound that whets the palette of a real m
 usic connoisseur and has you examining the beats as well as words that
  are coming out of your speakers.  The People’s Minister of informa
 tion JR - SF Bay View https://hollysaucy.bandcamp.com/   J. Mitchell M
 elodiousFly The sensual and soulful sounds of Jasmine \"J. Mitchell\" 
 is penetrating through the music scene as one of the hottest and eccen
 tric new voices of the future. With a captivating range and demanding 
 stage presence, Her voice stands uniquely on its own.  \"She inspires
  you to dream on the sneak tip. She is peculiar, triple take causing, 
 space vixen au natural, whose music makes you tilt your head and say '
 Hmmm,\" said Dazjea, of Purple Magazine.  J. Mitchell has collaborated
  with many artist local and abroad, such as Famed Producer Exile, and 
 Hip hop Legends Snoop dog and Common. Generating buzz and radio play t
 hroughout the US as well as Europe, with her collaboration with french
  bassist Hadrian Feruad. She also sat in as the lead singer for the Lo
 s Angeles based band the Rebirth. She has shared the stage with such a
 cts as the Buena Vista Social Club. She currently is the lead singer f
 or the band Dove Society, J Mitchell just wrapped a project with Shafi
 q Husayn (of the SA-RA collective) Called The Pharaohs Parade slated f
 or release this summer.  https://jmitchellmelodiousfly.bandcamp.com/\
 n\n\n#FeroMusic\n\n\n\nFor more information visit https://trueskool.co
 m/events/fero-bay-area-featuring-j-mitchell-aima-the-dreamer-holly-sau
 cy
DTSTART;TZID=America/Los_Angeles:20140329T210000
DTEND;TZID=America/Los_Angeles:20140330T020000
CATEGORIES:oakland, bay, area, live, music
LOCATION:The Legionnaire Saloon Oakland, CA
WEBSITE:http://legionnairesaloon.com/event/877821/32613667/live-music-
 j-mitchell-holly-saucy-aima-the-dreamer-queens-d-light-fero
URL:http://legionnairesaloon.com/event/877821/32613667/live-music-j-mi
 tchell-holly-saucy-aima-the-dreamer-queens-d-light-fero
CONTACT:
ORGANIZER:CNTRL/ALT.LLC
ATTACH;FMTTYPE="image/jpeg":http://storage.ning.com/topology/rest/1.0/
 file/get/2247958850?profile=original
ATTENDEE;ROLE=REQ-PARTICIPANT;PARTSTAT=ACCEPTED;RSVP=TRUE;CN="Control 
 The Alternatives":https://trueskool.com/profile/ControlTheAlternatives
END:VEVENT
END:VCALENDAR
