BEGIN:VCALENDAR
PRODID:NingEventWidget-v1
VERSION:2.0
METHOD:PUBLISH
BEGIN:VTIMEZONE
TZID:America/Los_Angeles
X-LIC-LOCATION:America/Los_Angeles
BEGIN:DAYLIGHT
TZOFFSETFROM:-0800
TZOFFSETTO:-0700
TZNAME:PDT
DTSTART:19700308T020000
RRULE:FREQ=YEARLY;BYMONTH=3;BYDAY=2SU
END:DAYLIGHT
BEGIN:STANDARD
TZOFFSETFROM:-0700
TZOFFSETTO:-0800
TZNAME:PST
DTSTART:19701101T020000
RRULE:FREQ=YEARLY;BYMONTH=11;BYDAY=1SU
END:STANDARD
END:VTIMEZONE
BEGIN:VEVENT
UID:1464587:Event:55316
DTSTAMP:20260420T213245Z
SUMMARY:Feria Urbana (urban fair)
DESCRIPTION:Mother's day is on May 9th, so don't forget to pick her up
  something fantastic and locally made at Feria Urbana Friday May 7th. 
 Oakland's Art Murmur is happening as well that night - it will be a gr
 eat evening to be out and about!\n\nFeria Urbana (Urban Fair) - is an 
 urban fair made up of local artists & designers selling a range of ite
 ms at accessible prices. You will find creative and high quality cloth
 ing, jewelry, artwork, home accessories, ceramics, fashion accessories
 , baby items and more.\n\nShop to the beats of local dj's and enjoy so
 me food and cocktails. Come support your local art community, bring so
 me friends and have some fun!\n\nFREE ADMISSION\n\nFriday May 7th, 6 P
 .M - 9:30 P.M.\n\nThe New Parish - 579 18th @ San Pablo\nOakland, CA 9
 4612\n(510) 444-7474 directions\n\nFeaturing :\nAiko Designs, Cookie a
 nd the Dude, By Nieves, King Bag Company, Found Jewelry, Eristotle, Su
 perSugarRayRay, Estilo Clothing, note•ify, Mangosteen, Honeycomb Jew
 elry, Tidal Ware, Georgie Be, Ruby Roxanne Designs, Ichi-V, Rock N Soc
 ks, Isla Corbett, Birdy Botanicals, Cutthroat Sewing, Bright Light Des
 igns, Nneka, Rosemary Dudley Designs, ALL in CAPS\n\nCheck out the web
 site for details www.feriaurbanaSF.com\n\nFor more information visit h
 ttps://trueskool.com/events/feria-urbana-urban-fair
DTSTART;TZID=America/Los_Angeles:20100507T180000
DTEND;TZID=America/Los_Angeles:20100507T213000
CATEGORIES:shopping, old, school, house
LOCATION:The New Parish, Oakland, CA
WEBSITE:http://maps.google.com/maps?sourceid=ie7&rls=com.microsoft:en-
 US&oe=utf8&rlz=1I7GGLL_en&um=1&ie=UTF-8&cid=0,0,8498984497738287228&fb
 =1&hnear=579%2B18th%2Bstreet%2Boakland&gl=us&daddr=579%2B18th%2BStreet
 ,%2BOakland,%2BCA%2B94612&geocode=954862440525962462,37.807775,-122.27
 2736&ei=YlD_SvnFJpH6sQP-h82eCg&sa=X&oi=local_result&ct=directions-to&r
 esnum=1&ved=0CAoQngIwAA
URL:http://maps.google.com/maps?sourceid=ie7&rls=com.microsoft:en-US&o
 e=utf8&rlz=1I7GGLL_en&um=1&ie=UTF-8&cid=0,0,8498984497738287228&fb=1&h
 near=579%2B18th%2Bstreet%2Boakland&gl=us&daddr=579%2B18th%2BStreet,%2B
 Oakland,%2BCA%2B94612&geocode=954862440525962462,37.807775,-122.272736
 &ei=YlD_SvnFJpH6sQP-h82eCg&sa=X&oi=local_result&ct=directions-to&resnu
 m=1&ved=0CAoQngIwAA
CONTACT:(510) 444-7474
ORGANIZER;CN="D Russ":https://trueskool.com/profile/FeriaUrbana
ATTACH;FMTTYPE="image/jpeg":
ATTENDEE;ROLE=REQ-PARTICIPANT;PARTSTAT=ACCEPTED;RSVP=TRUE;CN="D Russ":
 https://trueskool.com/profile/FeriaUrbana
END:VEVENT
END:VCALENDAR
