BEGIN:VCALENDAR
PRODID:NingEventWidget-v1
VERSION:2.0
METHOD:PUBLISH
BEGIN:VTIMEZONE
TZID:America/Los_Angeles
X-LIC-LOCATION:America/Los_Angeles
BEGIN:DAYLIGHT
TZOFFSETFROM:-0800
TZOFFSETTO:-0700
TZNAME:PDT
DTSTART:19700308T020000
RRULE:FREQ=YEARLY;BYMONTH=3;BYDAY=2SU
END:DAYLIGHT
BEGIN:STANDARD
TZOFFSETFROM:-0700
TZOFFSETTO:-0800
TZNAME:PST
DTSTART:19701101T020000
RRULE:FREQ=YEARLY;BYMONTH=11;BYDAY=1SU
END:STANDARD
END:VTIMEZONE
BEGIN:VEVENT
UID:1464587:Event:328637
DTSTAMP:20260421T054151Z
SUMMARY:FenToN CooLfooT & The Right Time with Special Guest Lagtime Li
 ve at Georges Nightclub
DESCRIPTION:FREE CITY PRESENTS...  FenToN CooLfooT & The Right Time wi
 th Special Guest Lagtime Live at Georges Nightclub  Friday, March 28, 
 2014 at 9:00 PM - Saturday, March 29, 2014 at 2:00 AM (PDT)  \" FenToN
  CooLfooT and The Right Time: An animated 7-piece Funk-Soul-Reggae-Roc
 k band lucidly producing a border less, bad-ass, neon colored live mus
 ic. They are funk, soul, reggae, Latin, and boogie all in one. It's In
 dependent Rebel Music for 2014 and beyond. FenToN CooLfoot and The Rig
 ht Time gives you \"Musical Stories of the Bay, Pretty Girls, Shoes, C
 ars, and Geetars Live!\"  Fully committed to the craft of the live mus
 ic performance, Mr. FenToN CooLfooT has shared the stage with a wealth
  of killer Bay Area Bands that exist or have existed over the years. H
 e is well known for his versatility as a guitarist/ and charisma as a 
 Funkateer/Wild-man and bandleader. His original songwriting is inspire
 d by a hard beat, good food, pretty girls, and rad shoes, in addition 
 to tales of growing up and partying here in the SF Bay Area, from Mari
 n County to Oakland to San Francisco. Backed by the mighty Right Time 
 band, it all comes together in a fresh funkin' harmony that shows real
  life on it's face, hard work, and a ton of love for the game.  FenToN
  CooLfooT has been/is on the bil with: Capelton, Monophonics, Pressure
 , Romain Virgo and Protoje, Guy Fox. Miles Schon, Mingo Lewis and many
  more, as well as shared the stage with/recorded with: Salsa/Reggae ba
 nd Mucho Axe, award-winning S.F. Latin/reggae band Manicato, Célia Fa
 ussart of Les Nubians, Big Tings! (roots reggae backing band), Gema de
  los Deseos (cumbia music), The Clean-Up Party Band, Afrorhythm, and t
 he High Lonesome Sound System (country/dub/bluegrass). He has recorded
  with most of these groups including studio work with the popular Chic
 ago-based Hip-Hop/Group Treehouse.  FenTon CooLfooT and The Right Time
 : Gardner F. Goetze: Lead Guitarand Vocals Jordan Feinstein: Keyboards
  and Vocals Dan Stilwell: Drums Tommy O'mahony: Bass Martin Blank: Sax
 ophone Chris Sullivan: Saxophone Henry Moser: Guitar Dave Eagle: Percu
 ssion  www.facebook.com/fentoncoolfoot www.reverbnation.com/fentoncool
 foot  LAGTIME: Lagtime is a, improv–fusion band. Our music is rooted
  in rocky fusion, but spans topics such as jazz, funk, reggae and blue
 s. We live mostly down deep in the pocket, but with the liberating gui
 dance of jazz, we make brief re–surfacings to the head to remind you
  of where you (we) are.  With us, interplay is the name of the game as
  each member feeds off the others. Rock-solid beats and jazzy tendenci
 es open the door for groove–based, blues–inspired bass lines and a
  tapestry of infectious melodies and rock–god solos.  Inspired by th
 e likes of David Gilmour, Trey Anastasio, John Scofield, Rush, Elvin J
 ones, Scott Amendola, Stanley Clarke, Herbie Hancock, Charlie Hunter, 
 Will Bernard, MMW, Charles Mingus, Willie Dixon, etc., Lagtime brings 
 a healthy mixture of improvisational covers and originals for your lis
 tening pleasure.  www.facebook.com/lagtime www.reverbnation.com/lagtim
 e  Order tickets via Eventbrite: http://www.eventbrite.com/e/fenton-co
 olfoot-and-the-right-time-w-special-guest-lagtime-georges-32814-ticket
 s-10811556657?aff=efbevent\n\nFor more information visit https://trues
 kool.com/events/fenton-coolfoot-the-right-time-with-special-guest-lagt
 ime-live-at
DTSTART;TZID=America/Los_Angeles:20140328T210000
DTEND;TZID=America/Los_Angeles:20140329T020000
CATEGORIES:"george's", nightclub
LOCATION:George's Nightclub, San Rafael
WEBSITE:http://www.eventbrite.com/e/fenton-coolfoot-and-the-right-time
 -w-special-guest-lagtime-georges-32814-tickets-10811556657?aff=efbeven
 t
URL:http://www.eventbrite.com/e/fenton-coolfoot-and-the-right-time-w-s
 pecial-guest-lagtime-georges-32814-tickets-10811556657?aff=efbevent
CONTACT:415-226-8435
ORGANIZER:Free City
ATTACH;FMTTYPE="image/jpeg":http://storage.ning.com/topology/rest/1.0/
 file/get/2247958954?profile=original
ATTENDEE;ROLE=REQ-PARTICIPANT;PARTSTAT=ACCEPTED;RSVP=TRUE;CN="Ruth A":
 https://trueskool.com/profile/RuthA
END:VEVENT
END:VCALENDAR
