BEGIN:VCALENDAR
PRODID:NingEventWidget-v1
VERSION:2.0
METHOD:PUBLISH
BEGIN:VTIMEZONE
TZID:America/Los_Angeles
X-LIC-LOCATION:America/Los_Angeles
BEGIN:DAYLIGHT
TZOFFSETFROM:-0800
TZOFFSETTO:-0700
TZNAME:PDT
DTSTART:19700308T020000
RRULE:FREQ=YEARLY;BYMONTH=3;BYDAY=2SU
END:DAYLIGHT
BEGIN:STANDARD
TZOFFSETFROM:-0700
TZOFFSETTO:-0800
TZNAME:PST
DTSTART:19701101T020000
RRULE:FREQ=YEARLY;BYMONTH=11;BYDAY=1SU
END:STANDARD
END:VTIMEZONE
BEGIN:VEVENT
UID:1464587:Event:159329
DTSTAMP:20260421T145712Z
SUMMARY:FenToN CooLfooT and The Right Time and Pure Cane
DESCRIPTION:\"An animated, Funk-Soul-Reggae-Rock show lucidly producin
 g a borderless, Bad-Ass, Live-Music Theater\". It's Independent Rebel 
 Music for 2013 and beyond! Lead guitarist and vocalist Gardner Fenton 
 Goetze concieved his alias FenToN CooLfooT while riding on a tour bus 
 with reggae band Steel Pulse in Italy. The Sun on the passing Tuscan c
 ountryside pulled the idea out of his mind. Sun-Glassin', Coolfootin',
  and Hard-Shredding while mining for light through music. It bounced 
 around the bus and a few years later, Funkateers from San Francisco, O
 akland, San Jose, and Marin County go Head to Head in High Quality HD 
 Funk-Soul-Reggae-Layin Boogie Music production. Live as the mighty sun
  and cool like the deep blue sea. reggae rockers, rock n roll heaters,
  crackin drums and harmonic colors. Spoken word and set design element
 s compliment the live show, an all styes experience sure to attract go
 od vibes, good company, and great live music and art. A steady vein of
  early RHCP, Funkadelic, and Dub-Reggae run through the Funk/Rockstead
 y sound that he calls \"Funksteady\".\nFenton has shared the stage wit
 h a wealth of Bay Area Bands that exist or have existed over the years
  including Tropicalia/Salsa/Reggae band Mucho Axe, award-winning SF La
 tin/Reggae band Manicato,Célia Faussart of Les Nubians, Big Tings!, G
 ema de los Deseos (cumbia music), The Clean-Up Party Band, Mystic Man 
 and Lakay, Afrorhythm, and the High Lonesome Sound System (country/dub
 /bluegrass). He has recorded with most of these groups including studi
 o work with the popular Chicago-based Hip-Hop/Group Treehouse. Fenton 
 is well known for his versatilty as a guitarist/ and charisma as a Fun
 kateer/Wild-man. His songwriting is insipred by hard beat,rhythm, soul
 , good food, pretty girls, and rad shoes, in addition to tales of grow
 ing up and partying in the SF Bay Area, from Marin County to Oakland t
 o San Francisco.\nThe Right Time: made up of the Mighty Jack Of All Tr
 ades Drummer and Percussionist Dan Stilwell and Funk-Jazz Bassman Elli
 ot Racine on the low end. Jordan Fientein on the Keys, With Martin Bla
 nk and Travis Groeber making up the Horn Section. Special Guests are s
 lated to Join The Right Time, which gaurantees an original and colorfu
 l night of killer Live, Local Independent Rebel Music!!\n\nFor more in
 formation visit https://trueskool.com/events/fenton-coolfoot-and-the-r
 ight-time-and-pure-cane
DTSTART;TZID=America/Los_Angeles:20130125T210000
DTEND;TZID=America/Los_Angeles:20130126T020000
CATEGORIES:fairfax
LOCATION:19 Broadway Night Club and Bar
WEBSITE:http://www.19broadway.com/event/200771-fenton-coolfoot-right-t
 ime-fairfax/
URL:http://www.19broadway.com/event/200771-fenton-coolfoot-right-time-
 fairfax/
CONTACT:
ORGANIZER;CN="FenToN CooLfooT":https://trueskool.com/profile/FenToNCoo
 LfooT
ATTACH;FMTTYPE="image/jpeg":http://storage.ning.com/topology/rest/1.0/
 file/get/2106919122?profile=original
ATTENDEE;ROLE=REQ-PARTICIPANT;PARTSTAT=ACCEPTED;RSVP=TRUE;CN="FenToN C
 ooLfooT":https://trueskool.com/profile/FenToNCooLfooT
END:VEVENT
END:VCALENDAR
