BEGIN:VCALENDAR
PRODID:NingEventWidget-v1
VERSION:2.0
METHOD:PUBLISH
BEGIN:VTIMEZONE
TZID:America/Los_Angeles
X-LIC-LOCATION:America/Los_Angeles
BEGIN:DAYLIGHT
TZOFFSETFROM:-0800
TZOFFSETTO:-0700
TZNAME:PDT
DTSTART:19700308T020000
RRULE:FREQ=YEARLY;BYMONTH=3;BYDAY=2SU
END:DAYLIGHT
BEGIN:STANDARD
TZOFFSETFROM:-0700
TZOFFSETTO:-0800
TZNAME:PST
DTSTART:19701101T020000
RRULE:FREQ=YEARLY;BYMONTH=11;BYDAY=1SU
END:STANDARD
END:VTIMEZONE
BEGIN:VEVENT
UID:1464587:Event:156164
DTSTAMP:20260421T211150Z
SUMMARY:Femi Kuti (WIN TICKETS)
DESCRIPTION:\n\nSATURDAY JAN 19\nFEMI KUTI\n \n@ Fiillmore, 1805 Gear
 y Blvd., SF\nShow 9pm\n>> BUY TICKETS\n\n\n\nFor more information visi
 t https://trueskool.com/events/femi-kuti-4
DTSTART;TZID=America/Los_Angeles:20130119T210000
DTEND;TZID=America/Los_Angeles:20130119T230000
CATEGORIES:"bay area", "san francisco"
LOCATION:The Fillmore, SF
WEBSITE:http://www.livenation.com/events/176654/jan-19-2013/femi-kuti
URL:http://www.livenation.com/events/176654/jan-19-2013/femi-kuti
CONTACT:
ORGANIZER:Live Nation
ATTACH;FMTTYPE="image/jpeg":http://storage.ning.com/topology/rest/1.0/
 file/get/2247931444?profile=original
ATTENDEE;ROLE=REQ-PARTICIPANT;PARTSTAT=ACCEPTED;RSVP=TRUE;CN="egon spe
 ngler":https://trueskool.com/profile/egonspengler
ATTENDEE;ROLE=REQ-PARTICIPANT;PARTSTAT=ACCEPTED;RSVP=TRUE;CN=maradona1
 0:https://trueskool.com/profile/maradona10
ATTENDEE;ROLE=REQ-PARTICIPANT;PARTSTAT=ACCEPTED;RSVP=TRUE;CN=Angela:ht
 tps://trueskool.com/profile/Angela456
ATTENDEE;ROLE=REQ-PARTICIPANT;PARTSTAT=ACCEPTED;RSVP=TRUE;CN="Jonathan
  Ridley":https://trueskool.com/profile/JonathanRidley
ATTENDEE;ROLE=REQ-PARTICIPANT;PARTSTAT=ACCEPTED;RSVP=TRUE;CN="Gabriel 
 Prindle":https://trueskool.com/profile/GabrielPrindle
ATTENDEE;ROLE=REQ-PARTICIPANT;PARTSTAT=ACCEPTED;RSVP=TRUE;CN=KM:https:
 //trueskool.com/profile/KM986
ATTENDEE;ROLE=REQ-PARTICIPANT;PARTSTAT=ACCEPTED;RSVP=TRUE;CN="Niki Zib
 isky":https://trueskool.com/profile/NikiZibisky
ATTENDEE;ROLE=REQ-PARTICIPANT;PARTSTAT=ACCEPTED;RSVP=TRUE;CN="Meno Mar
 tinez":https://trueskool.com/profile/MenoMartinez
ATTENDEE;ROLE=REQ-PARTICIPANT;PARTSTAT=ACCEPTED;RSVP=TRUE;CN="Britt Fr
 eier":https://trueskool.com/profile/BrittFreier
ATTENDEE;ROLE=REQ-PARTICIPANT;PARTSTAT=ACCEPTED;RSVP=TRUE;CN="Xochi Ma
 rtinez":https://trueskool.com/profile/XochiMartinez
ATTENDEE;ROLE=REQ-PARTICIPANT;PARTSTAT=ACCEPTED;RSVP=TRUE;CN="Tali Ben
 attar":https://trueskool.com/profile/TaliBenattar550
ATTENDEE;ROLE=REQ-PARTICIPANT;PARTSTAT=ACCEPTED;RSVP=TRUE;CN="Jerry Ya
 mashita":https://trueskool.com/profile/JerryYamashita
ATTENDEE;ROLE=REQ-PARTICIPANT;PARTSTAT=ACCEPTED;RSVP=TRUE;CN="Virgo Ce
 llars":https://trueskool.com/profile/VirgoCellars
ATTENDEE;ROLE=REQ-PARTICIPANT;PARTSTAT=ACCEPTED;RSVP=TRUE;CN="Stefanie
  Jackson":https://trueskool.com/profile/StefanieJackson
ATTENDEE;ROLE=REQ-PARTICIPANT;PARTSTAT=ACCEPTED;RSVP=TRUE;CN="Alison B
 arros":https://trueskool.com/profile/AlisonBarros
ATTENDEE;ROLE=REQ-PARTICIPANT;PARTSTAT=ACCEPTED;RSVP=TRUE;CN=RCD2:http
 s://trueskool.com/profile/Rcd2
ATTENDEE;ROLE=REQ-PARTICIPANT;PARTSTAT=ACCEPTED;RSVP=TRUE;CN="Iris E."
 :https://trueskool.com/profile/IrisE
ATTENDEE;ROLE=REQ-PARTICIPANT;PARTSTAT=ACCEPTED;RSVP=TRUE;CN="D Russ":
 https://trueskool.com/profile/FeriaUrbana
ATTENDEE;ROLE=REQ-PARTICIPANT;PARTSTAT=ACCEPTED;RSVP=TRUE;CN="Rhoberti
 no Regalado":https://trueskool.com/profile/RhobertinoRegalado
ATTENDEE;ROLE=REQ-PARTICIPANT;PARTSTAT=ACCEPTED;RSVP=TRUE;CN="Ren the 
 Vinyl Archaeologist":https://trueskool.com/profile/xh51jvilojur
ATTENDEE;ROLE=REQ-PARTICIPANT;PARTSTAT=TENTATIVE;RSVP=TRUE;CN=Kat:http
 s://trueskool.com/profile/Kat
ATTENDEE;ROLE=REQ-PARTICIPANT;PARTSTAT=TENTATIVE;RSVP=TRUE;CN="Elle Wh
 ite":https://trueskool.com/profile/ElleWhite
END:VEVENT
END:VCALENDAR
