BEGIN:VCALENDAR
PRODID:NingEventWidget-v1
VERSION:2.0
METHOD:PUBLISH
BEGIN:VTIMEZONE
TZID:America/Los_Angeles
X-LIC-LOCATION:America/Los_Angeles
BEGIN:DAYLIGHT
TZOFFSETFROM:-0800
TZOFFSETTO:-0700
TZNAME:PDT
DTSTART:19700308T020000
RRULE:FREQ=YEARLY;BYMONTH=3;BYDAY=2SU
END:DAYLIGHT
BEGIN:STANDARD
TZOFFSETFROM:-0700
TZOFFSETTO:-0800
TZNAME:PST
DTSTART:19701101T020000
RRULE:FREQ=YEARLY;BYMONTH=11;BYDAY=1SU
END:STANDARD
END:VTIMEZONE
BEGIN:VEVENT
UID:1464587:Event:53425
DTSTAMP:20260420T163142Z
SUMMARY:Femi Kuti
DESCRIPTION:Saturday July 3rd\nFemi Kuti\n\nThe Fillmore\n1805 Geary B
 oulevard, San Francisco, CA\ndoors at 9pm\ntickets $35\nBuy Tickets:\n
 \n\n\n\nFor more information visit https://trueskool.com/events/femi-k
 uti-2
DTSTART;TZID=America/Los_Angeles:20100408T180000
DTEND;TZID=America/Los_Angeles:20100408T190000
CATEGORIES:dancehall
LOCATION:The Fillmore, San Francisco, CA
WEBSITE:http://www.ticketmaster.com/event/1C004459B96C55B5
URL:http://www.ticketmaster.com/event/1C004459B96C55B5
CONTACT:
ORGANIZER;CN="Editor's Pick":https://trueskool.com/profile/RentheVinyl
 Archaeologist
ATTACH;FMTTYPE="image/jpeg":http://storage.ning.com/topology/rest/1.0/
 file/get/2247876596?profile=original
ATTENDEE;ROLE=REQ-PARTICIPANT;PARTSTAT=ACCEPTED;RSVP=TRUE;CN="Editor's
  Pick":https://trueskool.com/profile/RentheVinylArchaeologist
END:VEVENT
END:VCALENDAR
