BEGIN:VCALENDAR
PRODID:NingEventWidget-v1
VERSION:2.0
METHOD:PUBLISH
BEGIN:VTIMEZONE
TZID:America/Los_Angeles
X-LIC-LOCATION:America/Los_Angeles
BEGIN:DAYLIGHT
TZOFFSETFROM:-0800
TZOFFSETTO:-0700
TZNAME:PDT
DTSTART:19700308T020000
RRULE:FREQ=YEARLY;BYMONTH=3;BYDAY=2SU
END:DAYLIGHT
BEGIN:STANDARD
TZOFFSETFROM:-0700
TZOFFSETTO:-0800
TZNAME:PST
DTSTART:19701101T020000
RRULE:FREQ=YEARLY;BYMONTH=11;BYDAY=1SU
END:STANDARD
END:VTIMEZONE
BEGIN:VEVENT
UID:1464587:Event:32749
DTSTAMP:20260423T025433Z
SUMMARY:Femi Kuti
DESCRIPTION:\nA Live Nation Concert\nFemi Kuti\n\nThe Fillmore - S.F.\
 n1805 Geary Boulevard\nSAN FRANCISCO, CA 94115\nAll Ages\nSaturday 06/
 20/09 at 9:00 PM\n\nFor more information visit https://trueskool.com/e
 vents/femi-kuti-1
DTSTART;TZID=America/Los_Angeles:20090620T210000
DTEND;TZID=America/Los_Angeles:20090621T000000
CATEGORIES:afro, funk
LOCATION:The Fillmore - S.F.
WEBSITE:http://tickets.livenation.com/cgi-bin/tickets.htm?fun=tdetailb
 &doc=detailb&key=202$1509&eid=403691&oid=5F73F3F3F753B337F3F3F83F1C3F3
 F3F7E3F3F&fun=tdetailb&id=EC2_NO_SESSION&doc=detailb&key=202$1509&affi
 liate=EC2&referer_info=403691
URL:http://tickets.livenation.com/cgi-bin/tickets.htm?fun=tdetailb&doc
 =detailb&key=202$1509&eid=403691&oid=5F73F3F3F753B337F3F3F83F1C3F3F3F7
 E3F3F&fun=tdetailb&id=EC2_NO_SESSION&doc=detailb&key=202$1509&affiliat
 e=EC2&referer_info=403691
CONTACT:
ORGANIZER:Live Nation
ATTACH;FMTTYPE="image/jpeg":http://storage.ning.com/topology/rest/1.0/
 file/get/2247857571?profile=original
ATTENDEE;ROLE=REQ-PARTICIPANT;PARTSTAT=ACCEPTED;RSVP=TRUE;CN="Ren the 
 Vinyl Archaeologist":https://trueskool.com/profile/xh51jvilojur
END:VEVENT
END:VCALENDAR
