BEGIN:VCALENDAR
PRODID:NingEventWidget-v1
VERSION:2.0
METHOD:PUBLISH
BEGIN:VTIMEZONE
TZID:America/Los_Angeles
X-LIC-LOCATION:America/Los_Angeles
BEGIN:DAYLIGHT
TZOFFSETFROM:-0800
TZOFFSETTO:-0700
TZNAME:PDT
DTSTART:19700308T020000
RRULE:FREQ=YEARLY;BYMONTH=3;BYDAY=2SU
END:DAYLIGHT
BEGIN:STANDARD
TZOFFSETFROM:-0700
TZOFFSETTO:-0800
TZNAME:PST
DTSTART:19701101T020000
RRULE:FREQ=YEARLY;BYMONTH=11;BYDAY=1SU
END:STANDARD
END:VTIMEZONE
BEGIN:VEVENT
UID:1464587:Event:69420
DTSTAMP:20260420T180836Z
SUMMARY:FEAST ON HIP HOP featuring Souls of Mischief
DESCRIPTION:CLICK HERE TO WIN A PAIR OF TICKETS:\nhttp://www.trueskool
 .com/group/wintickets\n\n\nWEDNESDAY, NOV 24\nEar Peace Records presen
 ts\nFeast on Hip Hop\n\nfeaturing\nSouls of Mischief\nCandleSpit Colle
 ctive\nBroken Complex\nUephoric\nDJ Pause\n\n@ Slim's, 333 11th St., S
 F\nALL AGES. 9pm-1am. Adv. Tix = $21\nBuy Tickets\n\nDETAILS: Feast on
  Hip Hop, a Thanksgiving themed celebration of the culture and artistr
 y of Hip Hop. The focus of the night will be to give thanks for those 
 aspects of the art form that positively affect our personal lives and 
 the world around us. There will be DJ’s spinning old school classics
  (from the Bay Area and across the country), an art gallery as well as
  live artwork, and live performances from some of California’s most 
 up and coming Hip Hop acts, all topped off with Bay Area favorites, So
 uls of Mischief. Bring your good vibes and party hats down to Slim’s
  on November 24th to give thanks for all that true Hip Hop has given u
 s.\n \n\nFor more information visit https://trueskool.com/events/feast
 -on-hip-hop-featuring
DTSTART;TZID=America/Los_Angeles:20101124T210000
DTEND;TZID=America/Los_Angeles:20101125T010000
CATEGORIES:san, francisco, ca
LOCATION:Slim's, San Francisco, CA
WEBSITE:http://www.slims-sf.com
URL:http://www.slims-sf.com
CONTACT:(415) 255-0333
ORGANIZER:Ear Peace Records
ATTACH;FMTTYPE="image/jpeg":http://storage.ning.com/topology/rest/1.0/
 file/get/2247885512?profile=original
ATTENDEE;ROLE=REQ-PARTICIPANT;PARTSTAT=ACCEPTED;RSVP=TRUE;CN=DirtyNuke
 s:https://trueskool.com/profile/DirtyNukes
ATTENDEE;ROLE=REQ-PARTICIPANT;PARTSTAT=ACCEPTED;RSVP=TRUE;CN="CandleSp
 it Collective":https://trueskool.com/profile/CandleSpitCollective
END:VEVENT
END:VCALENDAR
