BEGIN:VCALENDAR
PRODID:NingEventWidget-v1
VERSION:2.0
METHOD:PUBLISH
BEGIN:VTIMEZONE
TZID:America/Los_Angeles
X-LIC-LOCATION:America/Los_Angeles
BEGIN:DAYLIGHT
TZOFFSETFROM:-0800
TZOFFSETTO:-0700
TZNAME:PDT
DTSTART:19700308T020000
RRULE:FREQ=YEARLY;BYMONTH=3;BYDAY=2SU
END:DAYLIGHT
BEGIN:STANDARD
TZOFFSETFROM:-0700
TZOFFSETTO:-0800
TZNAME:PST
DTSTART:19701101T020000
RRULE:FREQ=YEARLY;BYMONTH=11;BYDAY=1SU
END:STANDARD
END:VTIMEZONE
BEGIN:VEVENT
UID:1464587:Event:31255
DTSTAMP:20260420T231732Z
SUMMARY:Fear & Fancy TWENTY TWELVE Album Listening Soiree
DESCRIPTION:You are cordially invited to Fear & Fancy's Listening Soir
 ee at San Francisco's preeminent Front Street Gallery just off The Emb
 arcadero near Pier 15. Join us in celebrating the unveiling of our deb
 ut album TWENTY TWELVE, premiering in an all new digital format. Enjoy
  a truly immersing experience complete with face painting, an in depth
  Q&A session with Fear & Fancy, fanciful hors d'oeuvres, and an open W
 ine & Water Bar. Guests will get the exclusive opportunity to hear thi
 s highly-anticipated project and to receive a pre-order copy of the al
 bum before its official release! And of course, in true shindig style,
  we'll end the night partying like it's TWENTY TWELVE!\n\nFREE ALBUM w
 ith Twelve Dollar RSVP Admission*\n\n*RSVP via Evite or by sending you
 r name and email address to: info@fearandfancy.com\n\nFor more informa
 tion visit https://trueskool.com/events/fear-fancy-twenty-twelve
DTSTART;TZID=America/Los_Angeles:20090501T190000
DTEND;TZID=America/Los_Angeles:20090502T000000
CATEGORIES:listening, party
LOCATION:Front Street Gallery, San Francisco, CA
WEBSITE:http://maps.google.com/maps?f=q&source=s_q&hl=en&geocode=&q=92
 1+Front+St,+San+Francisco,+CA+94111&sll=37.0625,-95.677068&sspn=43.393
 645,73.652344&ie=UTF8&z=16&iwloc=A
URL:http://maps.google.com/maps?f=q&source=s_q&hl=en&geocode=&q=921+Fr
 ont+St,+San+Francisco,+CA+94111&sll=37.0625,-95.677068&sspn=43.393645,
 73.652344&ie=UTF8&z=16&iwloc=A
CONTACT:
ORGANIZER;CN="Fear & Fancy":https://trueskool.com/profile/FearFancy
ATTACH;FMTTYPE="image/jpeg":http://storage.ning.com/topology/rest/1.0/
 file/get/2247856522?profile=original
ATTENDEE;ROLE=REQ-PARTICIPANT;PARTSTAT=ACCEPTED;RSVP=TRUE;CN="Chloe WW
 ":https://trueskool.com/profile/ChloeWW
ATTENDEE;ROLE=REQ-PARTICIPANT;PARTSTAT=ACCEPTED;RSVP=TRUE;CN=Jidenna:h
 ttps://trueskool.com/profile/Jidenna
ATTENDEE;ROLE=REQ-PARTICIPANT;PARTSTAT=ACCEPTED;RSVP=TRUE;CN="Fear & F
 ancy":https://trueskool.com/profile/FearFancy
END:VEVENT
END:VCALENDAR
