BEGIN:VCALENDAR
PRODID:NingEventWidget-v1
VERSION:2.0
METHOD:PUBLISH
BEGIN:VTIMEZONE
TZID:America/Los_Angeles
X-LIC-LOCATION:America/Los_Angeles
BEGIN:DAYLIGHT
TZOFFSETFROM:-0800
TZOFFSETTO:-0700
TZNAME:PDT
DTSTART:19700308T020000
RRULE:FREQ=YEARLY;BYMONTH=3;BYDAY=2SU
END:DAYLIGHT
BEGIN:STANDARD
TZOFFSETFROM:-0700
TZOFFSETTO:-0800
TZNAME:PST
DTSTART:19701101T020000
RRULE:FREQ=YEARLY;BYMONTH=11;BYDAY=1SU
END:STANDARD
END:VTIMEZONE
BEGIN:VEVENT
UID:1464587:Event:301492
DTSTAMP:20260421T033140Z
SUMMARY:Faultline - a Breakbeat monthly party!
DESCRIPTION:SeismiCity Events is proud to present the Bay Area's only 
 official all Breaks monthly, \"FAULTLINE,\" every first Friday at Loun
 ge 3411 in Oakland!   //////FAULTLINE//////  featuring residents:  Jus
 tin Johnson  (Barely Legal Records, Cable Recordings) DJ Mixes and Pro
 duction: http://www.soundcloud.com/djjustinjohnson  _-_-_-_-_-_-_-_-_-
 _-_-_-_-_  DJ Infinitee (HyperKat-Recs, iRock-Classics, Midnight Sons,
  DOT, OAK) Video DJ Demo: http://www.youtube.com/watch?v=Etijvs_hruA  
 More DJ mixes and production: https://soundcloud.com/hyperkat-recordin
 gs https://soundcloud.com/irock-classix  _-_-_-_-_-_-_-_-_-_-_-_-_-_  
 Eric Riggsbee (Mirage Kru, Bay Area Breaks Kru, OAK) DJ Mixes: https:/
 /soundcloud.com/eric-riggsbee  _-_-_-_-_-_-_-_-_-_-_-_-_-_  DJ-138 ( M
 arco Mirenzi) (Midnight Sons, SF/OAK) DJ Mixes:  http://soundcloud.com
 /dj-0138  _-_-_-_-_-_-_-_-_-_-_-_-_-_  @ Lounge 3411 3411 MacArthur Bl
 vd Oakland 21+ w/ID\n9pm-2am\nNo Cover\n\nFor more information visit h
 ttps://trueskool.com/events/faultline-a-breakbeat-monthly-party
DTSTART;TZID=America/Los_Angeles:20140207T210000
DTEND;TZID=America/Los_Angeles:20140208T020000
CATEGORIES:oakland, ca, bay, area
LOCATION:Lounge 3411
WEBSITE:http://www.lounge3411.com/Location.html
URL:http://www.lounge3411.com/Location.html
CONTACT:[510] 531-3411
ORGANIZER;CN="Justin Johnson":https://trueskool.com/profile/JustinJohn
 son
ATTACH;FMTTYPE="image/jpeg":http://storage.ning.com/topology/rest/1.0/
 file/get/2247958617?profile=original
ATTENDEE;ROLE=REQ-PARTICIPANT;PARTSTAT=ACCEPTED;RSVP=TRUE;CN="Justin J
 ohnson":https://trueskool.com/profile/JustinJohnson
END:VEVENT
END:VCALENDAR
