BEGIN:VCALENDAR
PRODID:NingEventWidget-v1
VERSION:2.0
METHOD:PUBLISH
BEGIN:VTIMEZONE
TZID:America/Los_Angeles
X-LIC-LOCATION:America/Los_Angeles
BEGIN:DAYLIGHT
TZOFFSETFROM:-0800
TZOFFSETTO:-0700
TZNAME:PDT
DTSTART:19700308T020000
RRULE:FREQ=YEARLY;BYMONTH=3;BYDAY=2SU
END:DAYLIGHT
BEGIN:STANDARD
TZOFFSETFROM:-0700
TZOFFSETTO:-0800
TZNAME:PST
DTSTART:19701101T020000
RRULE:FREQ=YEARLY;BYMONTH=11;BYDAY=1SU
END:STANDARD
END:VTIMEZONE
BEGIN:VEVENT
UID:1464587:Event:53407
DTSTAMP:20260421T005653Z
SUMMARY:Fast Forward Fridays feat. Jah Warrior Shelter, Coo Yah! Ladie
 s, DJ Serg...
DESCRIPTION:CLICK HERE FOR REDUCED GUEST LIST ($5 ALL NIGHT)\n\n\nFRID
 AY, APRIL 9\nTHE ARTIST ALLIANCE (ANGEL MAGIK, DEE CEE SOUL SHAKEDOWN,
  SEGUE, TRU SKOOL, ART NOW SF)\nProudly presents...\nFFF (Fast Forward
  Fridays)\nArtisan Music Marketplace\n\nRoom 1: Caribbean Soul (10pm-2
 am)\nhosted by Angel Magik + DeeCee’s Soulshakedown\nReggae.Dancehal
 l.Luvas.Rootz.Soca.Calypso.Reggaeton\nFeaturing DJs:\nJah Warrior Shel
 ter's (Jah Yzer, Irie Dole, & Ivier)\nDaneekah & Green B (Coo-Yah! Wed
 nesdays )\nDj Serg (Kitty's Mondays.Remix.Lukas)\nBeatnok (InI Vibrati
 on's/skylark Monday's)\nJonny Mack aka Dj Jah~Kno (Angel Magik)\nEmpre
 ss I-Lexis (Wisdom Record's)\n\nPlus Live steel Pan + Horns by:\n\"lil
  LIL MO LOVE\" aka La Mantia\n\nroom 2: Fast Fwd Loft\nYOSHIS LiveSess
 ions 6-9pm (Live Jazz, Soul and Afro-Funk) featuring the Best in Hip H
 op, Soul, R+B and House.\n\nAt YOSHIS (1330 Fillmore, SF)\nPORTIONS OF
  PROFITS WILL GO SUPPORT THE CALIFORNIA PUBLIC EDUCATION FOUNDATION!! 
 ANY PARTY GROUPS, B'DAYS, ORGANIZATION INTERESTED IN RESERVING A BOOTH
 , TABLE, GET DISCOUNTED ENTRY. EMAIL: ANGELMAGIK@GMAIL.COM\n\nFor more
  information visit https://trueskool.com/events/fast-forward-fridays-f
 eat-jah
DTSTART;TZID=America/Los_Angeles:20100409T220000
DTEND;TZID=America/Los_Angeles:20100410T020000
CATEGORIES:reggae, dancehall, roots, hip, hop
LOCATION:Yoshi's, San Francisco, CA
WEBSITE:http://www.yoshis.com
URL:http://www.yoshis.com
CONTACT:
ORGANIZER:Angel Magik
ATTACH;FMTTYPE="image/jpeg":http://storage.ning.com/topology/rest/1.0/
 file/get/2247876474?profile=original
ATTENDEE;ROLE=REQ-PARTICIPANT;PARTSTAT=ACCEPTED;RSVP=TRUE;CN="Ren the 
 Vinyl Archaeologist":https://trueskool.com/profile/xh51jvilojur
END:VEVENT
END:VCALENDAR
