BEGIN:VCALENDAR
PRODID:NingEventWidget-v1
VERSION:2.0
METHOD:PUBLISH
BEGIN:VTIMEZONE
TZID:America/Los_Angeles
X-LIC-LOCATION:America/Los_Angeles
BEGIN:DAYLIGHT
TZOFFSETFROM:-0800
TZOFFSETTO:-0700
TZNAME:PDT
DTSTART:19700308T020000
RRULE:FREQ=YEARLY;BYMONTH=3;BYDAY=2SU
END:DAYLIGHT
BEGIN:STANDARD
TZOFFSETFROM:-0700
TZOFFSETTO:-0800
TZNAME:PST
DTSTART:19701101T020000
RRULE:FREQ=YEARLY;BYMONTH=11;BYDAY=1SU
END:STANDARD
END:VTIMEZONE
BEGIN:VEVENT
UID:1464587:Event:52607
DTSTAMP:20260421T034410Z
SUMMARY:Fast Forward Fridays
DESCRIPTION:\nTHE ARTIST ALLIANCE\npresents...\n\nFast Forward Fridays
 \n\nAt YOSHIS (1330 Fillmore, SF)\nARTISAN MARKET PLACE\n\nCelebrating
  the Aries Birthday of Angel Magik's Mike Hegazy!\n\nRoom 1\n\nArtisan
  Marketplace opens at 6pm\nhosted by ARTNOW SF\n\nwith vending by:\n\n
 Tyler Florence Jewelry\nCarolyn Tillie\nAriRenee Designs\nGoodJoe\nSyn
 ergy Glass Studio\nUmbrella Shirts\nReyes Muertos Klothing\nSince '88\
 n\nLive Painting by:\n\nJason Lamonte Dunman\nMilan Felice Evje\n\nLiv
 e Sewing & Draping by:\n\nElsie Eustis\nLaurenne Phillips\n\nRoom 2\n\
 nFast Fwd Lounge\nMotown Tea Party Happy Hour 6-10pm\nhosted by Linden
  C\nhalf price cocktails, appetizers & teas\ndjs: pabs - toph one - ro
 ots - alvaro & rafael fierro - laird\n\nCaribbean Soul 10pm-2am\nhoste
 d by Angel Magik + DeeCee’s Soulshakedown\nReggae.Dancehall.Luvas.Ro
 otz.Soca.Calypso.Reggaeton\nFeaturing DJs:\n\nJah Warrior Shelter's: J
 ah Yzer, Irie Dole, & Ivier\nCoo-Yah! Wednesdays: Daneekah & Green B\n
 Angel Magik's: Jonny Mack & Young Fyah\nWisdom Record's: Empress I-Lex
 is\nInI Vibration's: Beatnok\n\nPlus Live steel Pan\nby\n\"lil LIL MO 
 LOVE\" aka La Mantia\n\nroom 3\nFast Fwd Club\nYOSHIS LiveSessions 6-9
 pm (Live Jazz, Soul and Afro-Funk)\nFUTURE FUNK REVUE 9-2am\nFeaturing
  DJs:\nSeñor Oz & Pleasuremaker (Afrolicious/SF)w/ Will Magid (Live T
 rumpet)\nFunk,Soul, Afro, Latin, Club-Jazz, Boogie\n\nSpecial DJ set b
 y:\n\nAebl Dee\nhosted by Segue & EventVibe\n\nANY PARTY GROUPS, B'DAY
 S, ORGANIZATION INTERESTED IN RESERVING A BOOTH, TABLE, GET DISCOUNTED
  ENTRY\nEMAIL: ANGELMAGIK@GMAIL.COM\n\nTHIS EVENT IS EVERY FRIDAY!!! S
 AN FRANCISCO ON A HIGHER LEVEL!!\n\nFor more information visit https:/
 /trueskool.com/events/fast-forward-fridays-2
DTSTART;TZID=America/Los_Angeles:20100402T180000
DTEND;TZID=America/Los_Angeles:20100403T020000
CATEGORIES:dancehall, reggae, world, afro, beat, funk, soul, motown, h
 ip, hop
LOCATION:Yoshis, San Francisco, CA
WEBSITE:http://artnowsf.com
URL:http://artnowsf.com
CONTACT:
ORGANIZER;CN=ARTNOW:https://trueskool.com/profile/ARTNOW
ATTACH;FMTTYPE="image/jpeg":http://storage.ning.com/topology/rest/1.0/
 file/get/2247875308?profile=original
ATTENDEE;ROLE=REQ-PARTICIPANT;PARTSTAT=ACCEPTED;RSVP=TRUE;CN=ARTNOW:ht
 tps://trueskool.com/profile/ARTNOW
END:VEVENT
END:VCALENDAR
