BEGIN:VCALENDAR
PRODID:NingEventWidget-v1
VERSION:2.0
METHOD:PUBLISH
BEGIN:VTIMEZONE
TZID:America/Los_Angeles
X-LIC-LOCATION:America/Los_Angeles
BEGIN:DAYLIGHT
TZOFFSETFROM:-0800
TZOFFSETTO:-0700
TZNAME:PDT
DTSTART:19700308T020000
RRULE:FREQ=YEARLY;BYMONTH=3;BYDAY=2SU
END:DAYLIGHT
BEGIN:STANDARD
TZOFFSETFROM:-0700
TZOFFSETTO:-0800
TZNAME:PST
DTSTART:19701101T020000
RRULE:FREQ=YEARLY;BYMONTH=11;BYDAY=1SU
END:STANDARD
END:VTIMEZONE
BEGIN:VEVENT
UID:1464587:Event:68523
DTSTAMP:20260420T151803Z
SUMMARY:Fantasia, Eric Benet and Kandi
DESCRIPTION:\nSATURDAY, NOVEMBER 27\nBack To Me Tour\nFantasia\nEric B
 enet and Kandi\n\nThe Warfield, 982 Market Street, San Francisco, CA 9
 4102\nShow time: 8:00pm. Door time: 7:00pm.\nAge: All Ages+\nTickets A
 vailable Now\n$42.00 in advance-$65.00 day of show*\nBuy Tickets\n \n\
 nFor more information visit https://trueskool.com/events/fantasia-eric
 -benet-and-kandi
DTSTART;TZID=America/Los_Angeles:20101127T190000
DTEND;TZID=America/Los_Angeles:20101128T230000
CATEGORIES:bay, area, san, francisco, ca
LOCATION:The Warfield, San Francisco, CA
WEBSITE:http://www.ticketmaster.com/cgi/outsider.plx?GOTO=http://www.t
 icketmaster.com/event/2C00454DE0272E1B&CAMEFROM=AEGGV_MAIN&brand=golde
 nvoice
URL:http://www.ticketmaster.com/cgi/outsider.plx?GOTO=http://www.ticke
 tmaster.com/event/2C00454DE0272E1B&CAMEFROM=AEGGV_MAIN&brand=goldenvoi
 ce
CONTACT:
ORGANIZER:Golden Voice
ATTACH;FMTTYPE="image/jpeg":http://storage.ning.com/topology/rest/1.0/
 file/get/2247885305?profile=original
ATTENDEE;ROLE=REQ-PARTICIPANT;PARTSTAT=ACCEPTED;RSVP=TRUE;CN="Ren the 
 Vinyl Archaeologist":https://trueskool.com/profile/xh51jvilojur
END:VEVENT
END:VCALENDAR
