BEGIN:VCALENDAR
PRODID:NingEventWidget-v1
VERSION:2.0
METHOD:PUBLISH
BEGIN:VTIMEZONE
TZID:America/Los_Angeles
X-LIC-LOCATION:America/Los_Angeles
BEGIN:DAYLIGHT
TZOFFSETFROM:-0800
TZOFFSETTO:-0700
TZNAME:PDT
DTSTART:19700308T020000
RRULE:FREQ=YEARLY;BYMONTH=3;BYDAY=2SU
END:DAYLIGHT
BEGIN:STANDARD
TZOFFSETFROM:-0700
TZOFFSETTO:-0800
TZNAME:PST
DTSTART:19701101T020000
RRULE:FREQ=YEARLY;BYMONTH=11;BYDAY=1SU
END:STANDARD
END:VTIMEZONE
BEGIN:VEVENT
UID:1464587:Event:258515
DTSTAMP:20260421T110729Z
SUMMARY:Faith Evans (Los Angeles)
DESCRIPTION:\nNOV  \n30\nSAT\n\nDolby TheatreHollywood, CA08:00 PM\
 n\nDiary Of A Diva Live With R&b Divas Faith Evans & Kelly PriceDetail
 s: Faith Evans, Kelly Price\nFind Tickets\n\n\n\n\n\nFor more informa
 tion visit https://trueskool.com/events/faith-evans-los-angeles
DTSTART;TZID=America/Los_Angeles:20131130T200000
DTEND;TZID=America/Los_Angeles:20131130T230000
CATEGORIES:"los angeles"
LOCATION:Dolby Theatre, Los Angeles
WEBSITE:http://www.ticketmaster.com/diary-of-a-diva-live-with-hollywoo
 d-california-11-30-2013/event/09004B39F132B7F5?artistid=776240&majorca
 tid=10001&minorcatid=202&tm_link=artist_msg-0_09004B39F132B7F5
URL:http://www.ticketmaster.com/diary-of-a-diva-live-with-hollywood-ca
 lifornia-11-30-2013/event/09004B39F132B7F5?artistid=776240&majorcatid=
 10001&minorcatid=202&tm_link=artist_msg-0_09004B39F132B7F5
CONTACT:
ORGANIZER;CN="Editor's Pick":https://trueskool.com/profile/RentheVinyl
 Archaeologist
ATTACH;FMTTYPE="image/jpeg":http://storage.ning.com/topology/rest/1.0/
 file/get/2247956212?profile=original
ATTENDEE;ROLE=REQ-PARTICIPANT;PARTSTAT=ACCEPTED;RSVP=TRUE;CN="Editor's
  Pick":https://trueskool.com/profile/RentheVinylArchaeologist
END:VEVENT
END:VCALENDAR
