BEGIN:VCALENDAR
PRODID:NingEventWidget-v1
VERSION:2.0
METHOD:PUBLISH
BEGIN:VTIMEZONE
TZID:America/Los_Angeles
X-LIC-LOCATION:America/Los_Angeles
BEGIN:DAYLIGHT
TZOFFSETFROM:-0800
TZOFFSETTO:-0700
TZNAME:PDT
DTSTART:19700308T020000
RRULE:FREQ=YEARLY;BYMONTH=3;BYDAY=2SU
END:DAYLIGHT
BEGIN:STANDARD
TZOFFSETFROM:-0700
TZOFFSETTO:-0800
TZNAME:PST
DTSTART:19701101T020000
RRULE:FREQ=YEARLY;BYMONTH=11;BYDAY=1SU
END:STANDARD
END:VTIMEZONE
BEGIN:VEVENT
UID:1464587:Event:309608
DTSTAMP:20260421T010134Z
SUMMARY:EXOTIC VALENTINE & PRESIDENT WEEKEND WITH LIVE PERFORMANCES BY
  : R.O.D, VERONICA TIMMS & DU DANAGE FEB. 16TH
DESCRIPTION:Exotic valentine & President Weekend Extravaganza hosted b
 y skyconcepts, New karibbean City and Shay Diddy with live performnace
 s by ROD, VERONICA Timms and FILON Jay\n\nFor more information visit h
 ttps://trueskool.com/events/exotic-valentine-president-weekend-with-li
 ve-performances-by-r-o
DTSTART;TZID=America/Los_Angeles:20140216T210000
DTEND;TZID=America/Los_Angeles:20140217T040000
CATEGORIES:"#bayarea", "#eventinoakland", "#clubeventforfebruary16th",
  "@skyconceps"
LOCATION:New Karibbean City
WEBSITE:http://www.exoticvalentine.eventbrite.com
URL:http://www.exoticvalentine.eventbrite.com
CONTACT:415-240-6826
ORGANIZER;CN=Oscar:https://trueskool.com/profile/Oscar
ATTACH;FMTTYPE="image/jpeg":http://storage.ning.com/topology/rest/1.0/
 file/get/2247956761?profile=original
ATTENDEE;ROLE=REQ-PARTICIPANT;PARTSTAT=ACCEPTED;RSVP=TRUE;CN=Oscar:htt
 ps://trueskool.com/profile/Oscar
END:VEVENT
END:VCALENDAR
