BEGIN:VCALENDAR
PRODID:NingEventWidget-v1
VERSION:2.0
METHOD:PUBLISH
BEGIN:VTIMEZONE
TZID:America/Los_Angeles
X-LIC-LOCATION:America/Los_Angeles
BEGIN:DAYLIGHT
TZOFFSETFROM:-0800
TZOFFSETTO:-0700
TZNAME:PDT
DTSTART:19700308T020000
RRULE:FREQ=YEARLY;BYMONTH=3;BYDAY=2SU
END:DAYLIGHT
BEGIN:STANDARD
TZOFFSETFROM:-0700
TZOFFSETTO:-0800
TZNAME:PST
DTSTART:19701101T020000
RRULE:FREQ=YEARLY;BYMONTH=11;BYDAY=1SU
END:STANDARD
END:VTIMEZONE
BEGIN:VEVENT
UID:1464587:Event:39263
DTSTAMP:20260421T154011Z
SUMMARY:Exile, Raashan Ahmad, Miles Outside
DESCRIPTION:The Lounge presents Wednesdays at the Faherenheit Lounge i
 n downtown San Jose. After dope events featuring Questlove and Amel Le
 rieux (Sept 2nd), the Lounge bumps the tempo up with live dj/mpc virtu
 oso Exile, repping LA. Putting out various projects, including collabo
 s with Blu & Fashawn, as well as his own, Exile is at the front of the
  Dj/Producer movement. Also peforming is Raashan Ahmad, in support of 
 the new Crown City Rocker album as well his latest project, Soul Power
 . Rounding out the line up will be dj sets by Mark Spitz & Madd Hatter
 , as well as live alternative Hip Hop band, Miles Outside.\n\nNot to b
 e missed!!!\n\nFor more information visit https://trueskool.com/events
 /exile-raashan-ahmad-miles
DTSTART;TZID=America/Los_Angeles:20090909T200000
DTEND;TZID=America/Los_Angeles:20090910T020000
CATEGORIES:hip, hop, soul, live, performance
LOCATION:Fahrenheit Lounge
WEBSITE:http://www.fultralounge.com
URL:http://www.fultralounge.com
CONTACT:
ORGANIZER;CN="Paulie Rhyme":https://trueskool.com/profile/PaulieRhyme
ATTACH;FMTTYPE="image/jpeg":http://storage.ning.com/topology/rest/1.0/
 file/get/2247863177?profile=original
ATTENDEE;ROLE=REQ-PARTICIPANT;PARTSTAT=ACCEPTED;RSVP=TRUE;CN="Paulie R
 hyme":https://trueskool.com/profile/PaulieRhyme
END:VEVENT
END:VCALENDAR
