BEGIN:VCALENDAR
PRODID:NingEventWidget-v1
VERSION:2.0
METHOD:PUBLISH
BEGIN:VTIMEZONE
TZID:America/Los_Angeles
X-LIC-LOCATION:America/Los_Angeles
BEGIN:DAYLIGHT
TZOFFSETFROM:-0800
TZOFFSETTO:-0700
TZNAME:PDT
DTSTART:19700308T020000
RRULE:FREQ=YEARLY;BYMONTH=3;BYDAY=2SU
END:DAYLIGHT
BEGIN:STANDARD
TZOFFSETFROM:-0700
TZOFFSETTO:-0800
TZNAME:PST
DTSTART:19701101T020000
RRULE:FREQ=YEARLY;BYMONTH=11;BYDAY=1SU
END:STANDARD
END:VTIMEZONE
BEGIN:VEVENT
UID:1464587:Event:42410
DTSTAMP:20260420T222600Z
SUMMARY:EXILE HIP HOP TOUR AT CAL STATE HAYWARD EAST BAY
DESCRIPTION:JAHI, TIMZ, AND DEUCE ECLIPSE PERFORM LIVE. SIMPLY PUT... 
 GOOD NIGHT OF HIP HOP\n\nAND WE HAVE THE BEST PRICE OF ALL THE CONCERT
 S OUT RIGHT NOW!! FREE---FREE---FREE---FREE\n\nFor more information vi
 sit https://trueskool.com/events/exile-hip-hop-tour-at-cal
DTSTART;TZID=America/Los_Angeles:20091113T190000
DTEND;TZID=America/Los_Angeles:20091113T194500
CATEGORIES:hip, hop, education
LOCATION:HAYWARD, CA
WEBSITE:http://www.facebook/com/jahimusic
URL:http://www.facebook/com/jahimusic
CONTACT:
ORGANIZER:Amnesty International, Associated Students
ATTACH;FMTTYPE="image/jpeg":http://storage.ning.com/topology/rest/1.0/
 file/get/2247868542?profile=original
ATTENDEE;ROLE=REQ-PARTICIPANT;PARTSTAT=ACCEPTED;RSVP=TRUE;CN=JAHI:http
 s://trueskool.com/profile/JAHI
END:VEVENT
END:VCALENDAR
