BEGIN:VCALENDAR
PRODID:NingEventWidget-v1
VERSION:2.0
METHOD:PUBLISH
BEGIN:VTIMEZONE
TZID:America/Los_Angeles
X-LIC-LOCATION:America/Los_Angeles
BEGIN:DAYLIGHT
TZOFFSETFROM:-0800
TZOFFSETTO:-0700
TZNAME:PDT
DTSTART:19700308T020000
RRULE:FREQ=YEARLY;BYMONTH=3;BYDAY=2SU
END:DAYLIGHT
BEGIN:STANDARD
TZOFFSETFROM:-0700
TZOFFSETTO:-0800
TZNAME:PST
DTSTART:19701101T020000
RRULE:FREQ=YEARLY;BYMONTH=11;BYDAY=1SU
END:STANDARD
END:VTIMEZONE
BEGIN:VEVENT
UID:1464587:Event:233450
DTSTAMP:20260421T131156Z
SUMMARY:EXCURSIONS w/ Ren the Vinyl Archaeologist & DJ Hollandaze
DESCRIPTION:\n\nTHURSDAY, AUGUST 8EXCURSIONSA musical journey through 
 hip hop, soul, reggae, latin & more\nFeaturing:Ren the Vinyl Archaeolo
 gist (True Skool)Hollandaze (NYC)\n@ The Layover, 1517 Frankin St, Oak
 landNo cover, 21+, 10pm-2amInfo: http://www.trueskool.com\n\nFor more
  information visit https://trueskool.com/events/excursions-w-ren-the-v
 inyl-archaeologist-dj-hollandaze
DTSTART;TZID=America/Los_Angeles:20130808T220000
DTEND;TZID=America/Los_Angeles:20130809T020000
CATEGORIES:"bay area", oakland
LOCATION:The Layover, Oakland, CA
WEBSITE:https://www.facebook.com/events/199032493554451
URL:https://www.facebook.com/events/199032493554451
CONTACT:
ORGANIZER:Layover & DJ Hollandaze
ATTACH;FMTTYPE="image/jpeg":http://storage.ning.com/topology/rest/1.0/
 file/get/2247946418?profile=original
ATTENDEE;ROLE=REQ-PARTICIPANT;PARTSTAT=ACCEPTED;RSVP=TRUE;CN="Ren the 
 Vinyl Archaeologist":https://trueskool.com/profile/xh51jvilojur
END:VEVENT
END:VCALENDAR
