BEGIN:VCALENDAR
PRODID:NingEventWidget-v1
VERSION:2.0
METHOD:PUBLISH
BEGIN:VTIMEZONE
TZID:America/Los_Angeles
X-LIC-LOCATION:America/Los_Angeles
BEGIN:DAYLIGHT
TZOFFSETFROM:-0800
TZOFFSETTO:-0700
TZNAME:PDT
DTSTART:19700308T020000
RRULE:FREQ=YEARLY;BYMONTH=3;BYDAY=2SU
END:DAYLIGHT
BEGIN:STANDARD
TZOFFSETFROM:-0700
TZOFFSETTO:-0800
TZNAME:PST
DTSTART:19701101T020000
RRULE:FREQ=YEARLY;BYMONTH=11;BYDAY=1SU
END:STANDARD
END:VTIMEZONE
BEGIN:VEVENT
UID:1464587:Event:64582
DTSTAMP:20260420T130704Z
SUMMARY:Evolve 2nd Fridays
DESCRIPTION:Every 2nd Friday in Oakland, Era Artbar welcomes all house
  music lovers with open arms to get down to the best in deep and soulf
 ul house. This Friday's resident DJs, with 50 years combined experienc
 e, are experts in laying down the dynamic tracks that get the place pa
 cked every time. Not convinced the East Bay can match SF's house music
  scene? Watch the video from last month.\n\nhttp://www.youtube.com/wat
 ch?v=i0I3LhWQ72U&feature=related\n\nResident DJ's\nDavid Harness\nSoul
  Luciani\nRahiem Jihad\n\nStay Informed..\nhttp://www.facebook.com/#!/
 group.php?gid=380028820392&ref=ts\n\nEvery second Friday @ Era Artbar 
 19 Grand Ave, Oakland\n9pm-2am\n21+\n\nFor more information visit http
 s://trueskool.com/events/evolve-2nd-fridays
DTSTART;TZID=America/Los_Angeles:20100910T210000
DTEND;TZID=America/Los_Angeles:20100911T140000
CATEGORIES:east, bay
LOCATION:Era Artbar, Oakland
WEBSITE:http://www.youtube.com/watch?v=i0I3LhWQ72U&feature=related
URL:http://www.youtube.com/watch?v=i0I3LhWQ72U&feature=related
CONTACT:415.240.2494
ORGANIZER;CN="soul luciani":https://trueskool.com/profile/soulluciani
ATTACH;FMTTYPE="image/jpeg":http://storage.ning.com/topology/rest/1.0/
 file/get/2247888152?profile=original
ATTENDEE;ROLE=REQ-PARTICIPANT;PARTSTAT=ACCEPTED;RSVP=TRUE;CN="soul luc
 iani":https://trueskool.com/profile/soulluciani
END:VEVENT
END:VCALENDAR
