BEGIN:VCALENDAR
PRODID:NingEventWidget-v1
VERSION:2.0
METHOD:PUBLISH
BEGIN:VTIMEZONE
TZID:America/Los_Angeles
X-LIC-LOCATION:America/Los_Angeles
BEGIN:DAYLIGHT
TZOFFSETFROM:-0800
TZOFFSETTO:-0700
TZNAME:PDT
DTSTART:19700308T020000
RRULE:FREQ=YEARLY;BYMONTH=3;BYDAY=2SU
END:DAYLIGHT
BEGIN:STANDARD
TZOFFSETFROM:-0700
TZOFFSETTO:-0800
TZNAME:PST
DTSTART:19701101T020000
RRULE:FREQ=YEARLY;BYMONTH=11;BYDAY=1SU
END:STANDARD
END:VTIMEZONE
BEGIN:VEVENT
UID:1464587:Event:671440
DTSTAMP:20260421T120125Z
SUMMARY:Evidence (NYC)
DESCRIPTION:Evidence\r\nThu Feb 1 2018 8:00 PM (Doors 7:30 PM)\r\nKnit
 ting Factory - Brooklyn 361 Metropolitan Avenue Brooklyn, NY 11211 $15
 .00 ADV / $20.00 DOS All Ages Share\n\nFor more information visit http
 s://trueskool.com/events/evidence
DTSTART;TZID=America/Los_Angeles:20180201T193000
DTEND;TZID=America/Los_Angeles:20180201T233000
CATEGORIES:"new york", "new jersey", connecticut, tri-state, nyc
LOCATION:Knitting Factory, Brooklyn
WEBSITE:https://www.ticketweb.com/event/evidence-knitting-factory-broo
 klyn-tickets/7901765?REFERRAL_ID=tmfeed&amp;amp;amp;crosssite=TM_US:16
 23466:336184
URL:https://www.ticketweb.com/event/evidence-knitting-factory-brooklyn
 -tickets/7901765?REFERRAL_ID=tmfeed&amp;amp;amp;crosssite=TM_US:162346
 6:336184
CONTACT:
ORGANIZER;CN="Editor's Pick":https://trueskool.com/profile/RentheVinyl
 Archaeologist
ATTACH;FMTTYPE="image/jpeg":http://storage.ning.com/topology/rest/1.0/
 file/get/2059285173?profile=original
ATTENDEE;ROLE=REQ-PARTICIPANT;PARTSTAT=ACCEPTED;RSVP=TRUE;CN="Editor's
  Pick":https://trueskool.com/profile/RentheVinylArchaeologist
END:VEVENT
END:VCALENDAR
