BEGIN:VCALENDAR
PRODID:NingEventWidget-v1
VERSION:2.0
METHOD:PUBLISH
BEGIN:VTIMEZONE
TZID:America/Los_Angeles
X-LIC-LOCATION:America/Los_Angeles
BEGIN:DAYLIGHT
TZOFFSETFROM:-0800
TZOFFSETTO:-0700
TZNAME:PDT
DTSTART:19700308T020000
RRULE:FREQ=YEARLY;BYMONTH=3;BYDAY=2SU
END:DAYLIGHT
BEGIN:STANDARD
TZOFFSETFROM:-0700
TZOFFSETTO:-0800
TZNAME:PST
DTSTART:19701101T020000
RRULE:FREQ=YEARLY;BYMONTH=11;BYDAY=1SU
END:STANDARD
END:VTIMEZONE
BEGIN:VEVENT
UID:1464587:Event:673316
DTSTAMP:20260421T022057Z
SUMMARY:Evidence
DESCRIPTION:ENTER TO WIN A PAIR OF TICKETS. WINNER WILL BE DRAWN RANDO
 MLY AND ANNOUNCED 2 DAYS PRIOR TO EVENT.\r\n\r\n FRIDAY, JUNE 1\r\n Ev
 idence \r\n@ August Hall, 420 Mason St., San Francisco\r\n 9:00PM | Do
 ors 8:00PM\r\n $20.00 || All Ages\r\n >> BUY TICKETS\r\n\r\n\r\n\n\nFo
 r more information visit https://trueskool.com/events/evidence-1
DTSTART;TZID=America/Los_Angeles:20180601T200000
DTEND;TZID=America/Los_Angeles:20180601T230000
CATEGORIES:"bay area", "san francisco"
LOCATION:August Hall, San Francisco
WEBSITE:https://www.ticketweb.com/event/evidence-august-hall-tickets/8
 131495?pl=august&amp;amp;amp;amp;amp;amp;REFID=clientsite
URL:https://www.ticketweb.com/event/evidence-august-hall-tickets/81314
 95?pl=august&amp;amp;amp;amp;amp;amp;REFID=clientsite
CONTACT:
ORGANIZER:Live Nation
ATTACH;FMTTYPE="image/jpeg":http://storage.ning.com/topology/rest/1.0/
 file/get/2248005614?profile=original
ATTENDEE;ROLE=REQ-PARTICIPANT;PARTSTAT=ACCEPTED;RSVP=TRUE;CN="Editor's
  Pick":https://trueskool.com/profile/RentheVinylArchaeologist
ATTENDEE;ROLE=REQ-PARTICIPANT;PARTSTAT=ACCEPTED;RSVP=TRUE;CN="Elisa Bj
 eldanes":https://trueskool.com/profile/ElisaBjeldanes
ATTENDEE;ROLE=REQ-PARTICIPANT;PARTSTAT=ACCEPTED;RSVP=TRUE;CN="Donte Ha
 rrison":https://trueskool.com/profile/DonteHarrison
ATTENDEE;ROLE=REQ-PARTICIPANT;PARTSTAT=TENTATIVE;RSVP=TRUE;CN=strilici
 ous:https://trueskool.com/profile/strilicious
END:VEVENT
END:VCALENDAR
