BEGIN:VCALENDAR
PRODID:NingEventWidget-v1
VERSION:2.0
METHOD:PUBLISH
BEGIN:VTIMEZONE
TZID:America/Los_Angeles
X-LIC-LOCATION:America/Los_Angeles
BEGIN:DAYLIGHT
TZOFFSETFROM:-0800
TZOFFSETTO:-0700
TZNAME:PDT
DTSTART:19700308T020000
RRULE:FREQ=YEARLY;BYMONTH=3;BYDAY=2SU
END:DAYLIGHT
BEGIN:STANDARD
TZOFFSETFROM:-0700
TZOFFSETTO:-0800
TZNAME:PST
DTSTART:19701101T020000
RRULE:FREQ=YEARLY;BYMONTH=11;BYDAY=1SU
END:STANDARD
END:VTIMEZONE
BEGIN:VEVENT
UID:1464587:Event:32567
DTSTAMP:20260420T180810Z
SUMMARY:Everlasting Bass @ Poleng Lounge
DESCRIPTION:\n\nBAY AREA SISTAH SOUND (B.A.S.S.) presents \nEverlastin
 g Bass\nSaturday May 23, 2009\n@ Poleng Lounge SF\n\nFeaturing Coo-Yah
  DJ's Green B & Daneekah\n\n\nAlongside B.A.S.S. Resident Ladies\nPAM 
 the Funkstress (The Coup)DJ ZITA (Golden Soundscapes)\n\nFree Audio Do
 wnloads from EVERLASTING BASS Click Here\nPeep Photos from EVERLASTING
  BASS Click Here:\nBASSLADYDJS.COM\n \nSaturday May 23, 2009\n@ Poleng
  Lounge San Francisco\n1751 Fulton St (Masonic)\n10pm-2am, 21+, $5 bef
 ore 11pm w/RSVP\nguestlist@bassladydjs.com\n\n\nWIN AN EXCLUSIVE BASS 
 T-SHIRT...EMAIL YOUR SIZE TO:\ncontest@bassladydjs.com\n\n\n\nFree Cop
 ies of Pam & Zita's BASS IN YO FACE Mix CD for 50 Lucky Guests!\n\nGiv
 eaways from Mixerfriendly & Frank\n\nDrink Specials\n\n\n\n\nFor more 
 information visit https://trueskool.com/events/everlasting-bass-poleng
DTSTART;TZID=America/Los_Angeles:20090523T220000
DTEND;TZID=America/Los_Angeles:20090524T020000
CATEGORIES:hip, hop, dancehall, reggae, "r&b", old, school, funk
LOCATION:Poleng Lounge San Francisco
WEBSITE:http://www.bassladydjs.com
URL:http://www.bassladydjs.com
CONTACT:info@bassladydjs.com
ORGANIZER;CN="Fiyah Lilly":https://trueskool.com/profile/FiyahLilly
ATTACH;FMTTYPE="image/jpeg":http://storage.ning.com/topology/rest/1.0/
 file/get/2068657154?profile=original
ATTENDEE;ROLE=REQ-PARTICIPANT;PARTSTAT=ACCEPTED;RSVP=TRUE;CN="Fiyah Li
 lly":https://trueskool.com/profile/FiyahLilly
END:VEVENT
END:VCALENDAR
