BEGIN:VCALENDAR
PRODID:NingEventWidget-v1
VERSION:2.0
METHOD:PUBLISH
BEGIN:VTIMEZONE
TZID:America/Los_Angeles
X-LIC-LOCATION:America/Los_Angeles
BEGIN:DAYLIGHT
TZOFFSETFROM:-0800
TZOFFSETTO:-0700
TZNAME:PDT
DTSTART:19700308T020000
RRULE:FREQ=YEARLY;BYMONTH=3;BYDAY=2SU
END:DAYLIGHT
BEGIN:STANDARD
TZOFFSETFROM:-0700
TZOFFSETTO:-0800
TZNAME:PST
DTSTART:19701101T020000
RRULE:FREQ=YEARLY;BYMONTH=11;BYDAY=1SU
END:STANDARD
END:VTIMEZONE
BEGIN:VEVENT
UID:1464587:Event:37043
DTSTAMP:20260420T213245Z
SUMMARY:Everlasting Bass @ Poleng f/ AIMA THE DREAMER + DJ CELSKIII & 
 DEEANDROID
DESCRIPTION:Bay Area Sistah Sound presents..\nEVERLASTING BASS @ POLEN
 G\nevery 4th Saturday\n\nBASS RESIDENTS\nDJ ZITA & PAM THE FUNKSTRESS\
 n\nLIVE PERFORMANCE BY\nAIMA THE DREAMER\n\nGUEST SISTAH'S\nDJ CELSKII
 I & DEEANDROID\n\nRSVP: guestlist@bassladydjs.com\n(First & Last Name 
 + Email)\n\n\n\nFor more information visit https://trueskool.com/event
 s/everlasting-bass-poleng-f
DTSTART;TZID=America/Los_Angeles:20090822T220000
DTEND;TZID=America/Los_Angeles:20090823T020000
CATEGORIES:hip, hop, dancehall, reggae, "r&b", old, school, funk
LOCATION:Poleng Lounge San Francisco
WEBSITE:http://www.bassladydjs.com
URL:http://www.bassladydjs.com
CONTACT:
ORGANIZER;CN="Fiyah Lilly":https://trueskool.com/profile/FiyahLilly
ATTACH;FMTTYPE="image/jpeg":http://storage.ning.com/topology/rest/1.0/
 file/get/2247863381?profile=original
ATTENDEE;ROLE=REQ-PARTICIPANT;PARTSTAT=ACCEPTED;RSVP=TRUE;CN="Fiyah Li
 lly":https://trueskool.com/profile/FiyahLilly
END:VEVENT
END:VCALENDAR
