BEGIN:VCALENDAR
PRODID:NingEventWidget-v1
VERSION:2.0
METHOD:PUBLISH
BEGIN:VTIMEZONE
TZID:America/Los_Angeles
X-LIC-LOCATION:America/Los_Angeles
BEGIN:DAYLIGHT
TZOFFSETFROM:-0800
TZOFFSETTO:-0700
TZNAME:PDT
DTSTART:19700308T020000
RRULE:FREQ=YEARLY;BYMONTH=3;BYDAY=2SU
END:DAYLIGHT
BEGIN:STANDARD
TZOFFSETFROM:-0700
TZOFFSETTO:-0800
TZNAME:PST
DTSTART:19701101T020000
RRULE:FREQ=YEARLY;BYMONTH=11;BYDAY=1SU
END:STANDARD
END:VTIMEZONE
BEGIN:VEVENT
UID:1464587:Event:50101
DTSTAMP:20260421T003045Z
SUMMARY:Everlasting BASS 2 Year Anniversary
DESCRIPTION:B.A.S.S./Bay Area Sistah Sound presents\n\nEVERLASTING BAS
 S 2 YEAR ANNIVERSARY\nFri April 2, 2010 @ 111 Minna SF\n\n::Featuring 
 18 of the Bay's Flyest Lady DJs::\n\nDJ ZITA\nPAM THE FUNKSTRESS\nSIMI
 LAK CHYLD\nCELSKIII\nDEEANDROID\nDANEEKAH\nGREEN B\nSTEF\nLADY LU\nRRS
  FEED\nTHAT GIRL\nJENICYDE\nLEYDIS\nMAMABEAR\nLADY FINGAZ\nUMAMI\n\n::
 CD Release::\nBASS IN YO FACE Vol.2 by DJ Zita, Pam the Funkstress & S
 imilak Chyld\n\n::Hostesses::\nFiyah Lilly, Aima the Dreamer, AlteredG
 round, Killa Lipstick\nDancers: Bodirock Culture\n\n*Paparazzi Photos\
 n*Picadilly Catering & Anniversary Cake 9-10pm\n*Goodie Bag Giveaways 
 by: Sistargirl, Mixerfriendly, MADE Jewelry, Adapt, Ava Domina, FTC, U
 pper Playground, Adidas, Lady Bird SF, and Frank.\n\n@ 111 Minna SF\n9
 pm-2am, 21+\n$5 before 10pm Guest List at: guestlist@bassladydjs.com\n
 Email each person's First & Last Name + email address\n\nhttp://bassla
 dydjs.com\n\n\n\n\n\n\nFor more information visit https://trueskool.co
 m/events/everlasting-bass-2-year
DTSTART;TZID=America/Los_Angeles:20100402T210000
DTEND;TZID=America/Los_Angeles:20100403T020000
CATEGORIES:hip, hop, dancehall, reggae, "r&b", old, school, new, funk
LOCATION:111 Minna, San Francisco, CA
WEBSITE:http://www.bassladydjs.com
URL:http://www.bassladydjs.com
CONTACT:
ORGANIZER;CN="Fiyah Lilly":https://trueskool.com/profile/FiyahLilly
ATTACH;FMTTYPE="image/jpeg":http://storage.ning.com/topology/rest/1.0/
 file/get/2247874279?profile=original
ATTENDEE;ROLE=REQ-PARTICIPANT;PARTSTAT=ACCEPTED;RSVP=TRUE;CN="Fiyah Li
 lly":https://trueskool.com/profile/FiyahLilly
END:VEVENT
END:VCALENDAR
