BEGIN:VCALENDAR
PRODID:NingEventWidget-v1
VERSION:2.0
METHOD:PUBLISH
BEGIN:VTIMEZONE
TZID:America/Los_Angeles
X-LIC-LOCATION:America/Los_Angeles
BEGIN:DAYLIGHT
TZOFFSETFROM:-0800
TZOFFSETTO:-0700
TZNAME:PDT
DTSTART:19700308T020000
RRULE:FREQ=YEARLY;BYMONTH=3;BYDAY=2SU
END:DAYLIGHT
BEGIN:STANDARD
TZOFFSETFROM:-0700
TZOFFSETTO:-0800
TZNAME:PST
DTSTART:19701101T020000
RRULE:FREQ=YEARLY;BYMONTH=11;BYDAY=1SU
END:STANDARD
END:VTIMEZONE
BEGIN:VEVENT
UID:1464587:Event:41128
DTSTAMP:20260422T030822Z
SUMMARY:Estria Invitational Graffiti Battle
DESCRIPTION:The Living Word Project Presents:\nThe 3rd Annual Estria I
 nvitational Graffiti Battle\nat the Life Is Living Festival curated by
  Marc Bamuthi Joseph\n\nSaturday October 10, 2009, 11am-5pm\nFREE Fami
 ly Event deFremery Park (Little Bobby Hutton)\n1651 Adeline Street, Oa
 kland, CA 94607\n\n24 of the United States' most talented and revered 
 Graffiti Artists in live painting battle. Artists are determined and s
 elected by Estria, a Bay Area Graffiti Legend. Winners from the Harlem
 , Honolulu and Chicago Battles will be flown to Oakland to compete in 
 the finals of live graffiti art painting!\n\nFor more information visi
 t https://trueskool.com/events/estria-invitational-graffiti-2
DTSTART;TZID=America/Los_Angeles:20091010T110000
DTEND;TZID=America/Los_Angeles:20091010T170000
CATEGORIES:hip, hop
LOCATION:Oakland, CA
WEBSITE:http://www.estriabattle.com
URL:http://www.estriabattle.com
CONTACT:510.895.5700
ORGANIZER;CN=Bam:https://trueskool.com/profile/Bam
ATTACH;FMTTYPE="image/jpeg":http://storage.ning.com/topology/rest/1.0/
 file/get/2247866839?profile=original
ATTENDEE;ROLE=REQ-PARTICIPANT;PARTSTAT=ACCEPTED;RSVP=TRUE;CN=Bam:https
 ://trueskool.com/profile/Bam
END:VEVENT
END:VCALENDAR
