BEGIN:VCALENDAR
PRODID:NingEventWidget-v1
VERSION:2.0
METHOD:PUBLISH
BEGIN:VTIMEZONE
TZID:America/Los_Angeles
X-LIC-LOCATION:America/Los_Angeles
BEGIN:DAYLIGHT
TZOFFSETFROM:-0800
TZOFFSETTO:-0700
TZNAME:PDT
DTSTART:19700308T020000
RRULE:FREQ=YEARLY;BYMONTH=3;BYDAY=2SU
END:DAYLIGHT
BEGIN:STANDARD
TZOFFSETFROM:-0700
TZOFFSETTO:-0800
TZNAME:PST
DTSTART:19701101T020000
RRULE:FREQ=YEARLY;BYMONTH=11;BYDAY=1SU
END:STANDARD
END:VTIMEZONE
BEGIN:VEVENT
UID:1464587:Event:680091
DTSTAMP:20260421T125234Z
SUMMARY:ESPERANZA SPALDING
DESCRIPTION:ENTER TO WIN A PAIR OF TICKETS. WINNER WILL BE DRAWN RANDO
 MLY AND ANNOUNCED 2 DAYS PRIOR TO EVENT. \r\n\r\n\r\n12 Little Spells\
 r\nESPERANZA SPALDING\r\nPalace of Fine Arts\r\nSan Francisco, CA\r\n
 \r\n\r\nMonday, November 19, 2018\r\nDoors: 7:00pm | Show: 8:00pm\r\
 n>> BUY TICKETS\r\n\r\n\r\n\r\n\r\n\r\n\n\nFor more information visit 
 https://trueskool.com/events/esperanza-spalding
DTSTART;TZID=America/Los_Angeles:20181119T190000
DTEND;TZID=America/Los_Angeles:20181119T230000
CATEGORIES:"bay area", "san francisco"
LOCATION:Palace of Fine Arts San Francisco
WEBSITE:https://www.ticketmaster.com/event/1C00554BA8B08266?camefrom=C
 FC_ANOTHERPLANET_web&amp;amp;brand=anotherplanet
URL:https://www.ticketmaster.com/event/1C00554BA8B08266?camefrom=CFC_A
 NOTHERPLANET_web&amp;amp;brand=anotherplanet
CONTACT:
ORGANIZER:Another Planet Ent
ATTACH;FMTTYPE="image/jpeg":http://storage.ning.com/topology/rest/1.0/
 file/get/135159866?profile=original
ATTENDEE;ROLE=REQ-PARTICIPANT;PARTSTAT=ACCEPTED;RSVP=TRUE;CN="Ren the 
 Vinyl Archaeologist":https://trueskool.com/profile/xh51jvilojur
END:VEVENT
END:VCALENDAR
