BEGIN:VCALENDAR
PRODID:NingEventWidget-v1
VERSION:2.0
METHOD:PUBLISH
BEGIN:VTIMEZONE
TZID:America/Los_Angeles
X-LIC-LOCATION:America/Los_Angeles
BEGIN:DAYLIGHT
TZOFFSETFROM:-0800
TZOFFSETTO:-0700
TZNAME:PDT
DTSTART:19700308T020000
RRULE:FREQ=YEARLY;BYMONTH=3;BYDAY=2SU
END:DAYLIGHT
BEGIN:STANDARD
TZOFFSETFROM:-0700
TZOFFSETTO:-0800
TZNAME:PST
DTSTART:19701101T020000
RRULE:FREQ=YEARLY;BYMONTH=11;BYDAY=1SU
END:STANDARD
END:VTIMEZONE
BEGIN:VEVENT
UID:1464587:Event:672349
DTSTAMP:20260421T164248Z
SUMMARY:ERYKAH BADU
DESCRIPTION:ERYKAH BADU\r\nwith Thundercat\r\nWednesday, February 14, 
 2018 Doors: 7:00PM |Show: 8:30PM\r\n333 14th Street San Francisco, CA 
 94103 SAN FRANCISCO ARMORY\n\nFor more information visit https://trues
 kool.com/events/erykah-badu2
DTSTART;TZID=America/Los_Angeles:20180214T203000
DTEND;TZID=America/Los_Angeles:20180214T230000
CATEGORIES:"bay area", oakland, "san francisco", "san jose", berkeley
LOCATION:SAN FRANCISCO ARMORY, SF
WEBSITE:https://www.axs.com/events/347793/erykah-badu-tickets?skin=gol
 denvoice
URL:https://www.axs.com/events/347793/erykah-badu-tickets?skin=goldenv
 oice
CONTACT:
ORGANIZER;CN="Editor's Pick":https://trueskool.com/profile/RentheVinyl
 Archaeologist
ATTACH;FMTTYPE="image/jpeg":http://storage.ning.com/topology/rest/1.0/
 file/get/2248004109?profile=original
ATTENDEE;ROLE=REQ-PARTICIPANT;PARTSTAT=ACCEPTED;RSVP=TRUE;CN="Editor's
  Pick":https://trueskool.com/profile/RentheVinylArchaeologist
END:VEVENT
END:VCALENDAR
