BEGIN:VCALENDAR
PRODID:NingEventWidget-v1
VERSION:2.0
METHOD:PUBLISH
BEGIN:VTIMEZONE
TZID:America/Los_Angeles
X-LIC-LOCATION:America/Los_Angeles
BEGIN:DAYLIGHT
TZOFFSETFROM:-0800
TZOFFSETTO:-0700
TZNAME:PDT
DTSTART:19700308T020000
RRULE:FREQ=YEARLY;BYMONTH=3;BYDAY=2SU
END:DAYLIGHT
BEGIN:STANDARD
TZOFFSETFROM:-0700
TZOFFSETTO:-0800
TZNAME:PST
DTSTART:19701101T020000
RRULE:FREQ=YEARLY;BYMONTH=11;BYDAY=1SU
END:STANDARD
END:VTIMEZONE
BEGIN:VEVENT
UID:1464587:Event:32338
DTSTAMP:20260421T125307Z
SUMMARY:Erykah Badu
DESCRIPTION:\nERYKAH BADU\n\nPERFORMING LIVE!!!\n\n@ THE WARFIELD, 982
  Market Street, San Francisco, CA 94102\n\nSATURDAY JUNE 6TH\n\nALL AG
 ES\n\nTICKETS ON-SALE NOW!!!\n\nFor more information visit https://tru
 eskool.com/events/erykah-badu
DTSTART;TZID=America/Los_Angeles:20090606T210000
DTEND;TZID=America/Los_Angeles:20090607T000000
CATEGORIES:soul, "r&b"
LOCATION:The Warfield, San Francisco, CA
WEBSITE:http://www.ticketmaster.com/event/1C004296A4754FF6?artistid=78
 1503&majorcatid=10001&minorcatid=202
URL:http://www.ticketmaster.com/event/1C004296A4754FF6?artistid=781503
 &majorcatid=10001&minorcatid=202
CONTACT:
ORGANIZER:Golden Voice
ATTACH;FMTTYPE="image/jpeg":http://storage.ning.com/topology/rest/1.0/
 file/get/2247856957?profile=original
ATTENDEE;ROLE=REQ-PARTICIPANT;PARTSTAT=ACCEPTED;RSVP=TRUE;CN="Ren the 
 Vinyl Archaeologist":https://trueskool.com/profile/xh51jvilojur
END:VEVENT
END:VCALENDAR
