BEGIN:VCALENDAR
PRODID:NingEventWidget-v1
VERSION:2.0
METHOD:PUBLISH
BEGIN:VTIMEZONE
TZID:America/Los_Angeles
X-LIC-LOCATION:America/Los_Angeles
BEGIN:DAYLIGHT
TZOFFSETFROM:-0800
TZOFFSETTO:-0700
TZNAME:PDT
DTSTART:19700308T020000
RRULE:FREQ=YEARLY;BYMONTH=3;BYDAY=2SU
END:DAYLIGHT
BEGIN:STANDARD
TZOFFSETFROM:-0700
TZOFFSETTO:-0800
TZNAME:PST
DTSTART:19701101T020000
RRULE:FREQ=YEARLY;BYMONTH=11;BYDAY=1SU
END:STANDARD
END:VTIMEZONE
BEGIN:VEVENT
UID:1464587:Event:32744
DTSTAMP:20260422T000907Z
SUMMARY:Eric Roberson
DESCRIPTION:\nThe Collective\n\nfeaturing\nEric Roberson and special g
 uest - Grammy nominated artist Wayna.\n\nMaxwell's Restaurant & Lounge
 \n341 13th Street\nOakland CA 94612\nDoors: 8pm, Showtime: 10pm\n\n***
 This will be a non seated concert, audience stands in stage view area,
  seats available in non stage view areas of the venue***\n\nShow immed
 iately followed by DJ/dancing\n\nAdmission: $15-$22.50/online\n\nDress
  Code in effect\n\n21 & over with valid ID\n\nFood available all night
 \n\nPrice of Ticket: $20\n\nFor more information visit https://truesko
 ol.com/events/eric-roberson
DTSTART;TZID=America/Los_Angeles:20090612T200000
DTEND;TZID=America/Los_Angeles:20090613T020000
CATEGORIES:soul, "r&b"
LOCATION:Maxwell's Restaurant & Lounge
WEBSITE:http://www.airbornetickets.com/EventDetail/42/The_Collective_f
 eaturing_Eric_Roberson_&_Wayna
URL:http://www.airbornetickets.com/EventDetail/42/The_Collective_featu
 ring_Eric_Roberson_&_Wayna
CONTACT:
ORGANIZER:Maxwell's
ATTACH;FMTTYPE="image/jpeg":http://storage.ning.com/topology/rest/1.0/
 file/get/2247858623?profile=original
ATTENDEE;ROLE=REQ-PARTICIPANT;PARTSTAT=ACCEPTED;RSVP=TRUE;CN="Ren the 
 Vinyl Archaeologist":https://trueskool.com/profile/xh51jvilojur
END:VEVENT
END:VCALENDAR
