BEGIN:VCALENDAR
PRODID:NingEventWidget-v1
VERSION:2.0
METHOD:PUBLISH
BEGIN:VTIMEZONE
TZID:America/Los_Angeles
X-LIC-LOCATION:America/Los_Angeles
BEGIN:DAYLIGHT
TZOFFSETFROM:-0800
TZOFFSETTO:-0700
TZNAME:PDT
DTSTART:19700308T020000
RRULE:FREQ=YEARLY;BYMONTH=3;BYDAY=2SU
END:DAYLIGHT
BEGIN:STANDARD
TZOFFSETFROM:-0700
TZOFFSETTO:-0800
TZNAME:PST
DTSTART:19701101T020000
RRULE:FREQ=YEARLY;BYMONTH=11;BYDAY=1SU
END:STANDARD
END:VTIMEZONE
BEGIN:VEVENT
UID:1464587:Event:833261
DTSTAMP:20260421T050549Z
SUMMARY:ERIC ROBERSON
DESCRIPTION:ERIC ROBERSON\r\nJanuary 31, 2025 Doors: 7:30 PM / Show: 8
 :00 PM\r\nJanuary 31, 2025 Doors: 9:45 PM / Show: 10:00 PM\r\nFebruary
  1, 2025 Doors: 7:00 PM / Show: 7:30 PM\r\nFebruary 1, 2025 Doors: 9:1
 5 PM / Show: 9:30 PM\r\nYoshi's 510 Embarcadero West, Oakland, CA 9460
 7\n\nFor more information visit https://trueskool.com/events/eric-robe
 rson-6
DTSTART;TZID=America/Los_Angeles:20250131T200000
DTEND;TZID=America/Los_Angeles:20250201T233000
CATEGORIES:"bay area", oakland, "san francisco", "san jose", berkeley
LOCATION:Yoshi's, Oakland
WEBSITE:https://yoshis.com/events/buy-tickets/eric-roberson-7/detail
URL:https://yoshis.com/events/buy-tickets/eric-roberson-7/detail
CONTACT:
ORGANIZER;CN="Editor's Pick":https://trueskool.com/profile/RentheVinyl
 Archaeologist
ATTACH;FMTTYPE="image/jpeg":https://storage.ning.com/topology/rest/1.0
 /file/get/13124209052?profile=original
ATTENDEE;ROLE=REQ-PARTICIPANT;PARTSTAT=ACCEPTED;RSVP=TRUE;CN="Editor's
  Pick":https://trueskool.com/profile/RentheVinylArchaeologist
END:VEVENT
END:VCALENDAR
