BEGIN:VCALENDAR
PRODID:NingEventWidget-v1
VERSION:2.0
METHOD:PUBLISH
BEGIN:VTIMEZONE
TZID:America/Los_Angeles
X-LIC-LOCATION:America/Los_Angeles
BEGIN:DAYLIGHT
TZOFFSETFROM:-0800
TZOFFSETTO:-0700
TZNAME:PDT
DTSTART:19700308T020000
RRULE:FREQ=YEARLY;BYMONTH=3;BYDAY=2SU
END:DAYLIGHT
BEGIN:STANDARD
TZOFFSETFROM:-0700
TZOFFSETTO:-0800
TZNAME:PST
DTSTART:19701101T020000
RRULE:FREQ=YEARLY;BYMONTH=11;BYDAY=1SU
END:STANDARD
END:VTIMEZONE
BEGIN:VEVENT
UID:1464587:Event:653147
DTSTAMP:20260422T031141Z
SUMMARY:ERIC ROBERSON
DESCRIPTION:SAT-SUN 11.19-11.20 ERIC ROBERSON DOORS: 7:00 PM / SHOW: 7
 :30 PMDOORS: 9:15 PM / SHOW: 9:30 PM\n\nFor more information visit htt
 ps://trueskool.com/events/eric-roberson-1
DTSTART;TZID=America/Los_Angeles:20161119T193000
DTEND;TZID=America/Los_Angeles:20161119T233000
CATEGORIES:"san francisco", oakland, berkley, "san jose", "bay area"
LOCATION:Yoshi's, Oakland
WEBSITE:http://www.yoshis.com/search/?q=ERIC%20ROBERSON
URL:http://www.yoshis.com/search/?q=ERIC%20ROBERSON
CONTACT:
ORGANIZER;CN="Editor's Pick":https://trueskool.com/profile/RentheVinyl
 Archaeologist
ATTACH;FMTTYPE="image/jpeg":http://storage.ning.com/topology/rest/1.0/
 file/get/2247992030?profile=original
ATTENDEE;ROLE=REQ-PARTICIPANT;PARTSTAT=ACCEPTED;RSVP=TRUE;CN="Editor's
  Pick":https://trueskool.com/profile/RentheVinylArchaeologist
END:VEVENT
END:VCALENDAR
