BEGIN:VCALENDAR
PRODID:NingEventWidget-v1
VERSION:2.0
METHOD:PUBLISH
BEGIN:VTIMEZONE
TZID:America/Los_Angeles
X-LIC-LOCATION:America/Los_Angeles
BEGIN:DAYLIGHT
TZOFFSETFROM:-0800
TZOFFSETTO:-0700
TZNAME:PDT
DTSTART:19700308T020000
RRULE:FREQ=YEARLY;BYMONTH=3;BYDAY=2SU
END:DAYLIGHT
BEGIN:STANDARD
TZOFFSETFROM:-0700
TZOFFSETTO:-0800
TZNAME:PST
DTSTART:19701101T020000
RRULE:FREQ=YEARLY;BYMONTH=11;BYDAY=1SU
END:STANDARD
END:VTIMEZONE
BEGIN:VEVENT
UID:1464587:Event:39188
DTSTAMP:20260421T002918Z
SUMMARY:Eric Benet
DESCRIPTION:Eric Benet\n\nSep 05-Sep 7, 2009\n\nPlease note: The Bay B
 ridge will be closed Thursday, September 3rd 8pm - Tuesday, September 
 8th 5am. For more info: http://baybridgeinfo.org\n\nYoshi's Oakland\n5
 10 Embarcadero West\nJack London Square\nOakland, CA 94607\nPhone: 510
 .238.9200\nSaturday 8pm SOLD OUT & 10pm show $32\nSunday 8pm & 10pm sh
 ows $32\nMonday 7pm show $28\n\n\n\nFor more information visit https:/
 /trueskool.com/events/eric-benet
DTSTART;TZID=America/Los_Angeles:20090905T200000
DTEND;TZID=America/Los_Angeles:20090907T210000
CATEGORIES:soul, "r&b"
LOCATION:Yoshi's Oakland, Oakland, CA
WEBSITE:http://www.yoshis.com/oakland/jazzclub/artist/show/847
URL:http://www.yoshis.com/oakland/jazzclub/artist/show/847
CONTACT:
ORGANIZER:Yoshi's
ATTACH;FMTTYPE="image/jpeg":http://storage.ning.com/topology/rest/1.0/
 file/get/2247859518?profile=original
ATTENDEE;ROLE=REQ-PARTICIPANT;PARTSTAT=ACCEPTED;RSVP=TRUE;CN="Editor's
  Pick":https://trueskool.com/profile/RentheVinylArchaeologist
END:VEVENT
END:VCALENDAR
