BEGIN:VCALENDAR
PRODID:NingEventWidget-v1
VERSION:2.0
METHOD:PUBLISH
BEGIN:VTIMEZONE
TZID:America/Los_Angeles
X-LIC-LOCATION:America/Los_Angeles
BEGIN:DAYLIGHT
TZOFFSETFROM:-0800
TZOFFSETTO:-0700
TZNAME:PDT
DTSTART:19700308T020000
RRULE:FREQ=YEARLY;BYMONTH=3;BYDAY=2SU
END:DAYLIGHT
BEGIN:STANDARD
TZOFFSETFROM:-0700
TZOFFSETTO:-0800
TZNAME:PST
DTSTART:19701101T020000
RRULE:FREQ=YEARLY;BYMONTH=11;BYDAY=1SU
END:STANDARD
END:VTIMEZONE
BEGIN:VEVENT
UID:1464587:Event:229541
DTSTAMP:20260421T035811Z
SUMMARY:Eric Benet (Las Vegas)
DESCRIPTION:\nThe Railhead at Boulder Station Hotel & CasinoLas Vegas,
  NV08:00 PM\n\nEric Benet\nFind Tickets »\n\n\n\n\nFor more informa
 tion visit https://trueskool.com/events/eric-benet-las-vegas
DTSTART;TZID=America/Los_Angeles:20130810T200000
DTEND;TZID=America/Los_Angeles:20130810T230000
CATEGORIES:"las vegas", nevada
LOCATION:The Railhead at Boulder Station Hotel & Casino, Las Vegas
WEBSITE:http://www.ticketmaster.com/eric-benet-las-vegas-nevada-08-10-
 2013/event/1700498BB93A8342?artistid=780717&majorcatid=10001&minorcati
 d=202&tm_link=artist_msg-0_1700498BB93A8342
URL:http://www.ticketmaster.com/eric-benet-las-vegas-nevada-08-10-2013
 /event/1700498BB93A8342?artistid=780717&majorcatid=10001&minorcatid=20
 2&tm_link=artist_msg-0_1700498BB93A8342
CONTACT:
ORGANIZER;CN="Editor's Pick":https://trueskool.com/profile/RentheVinyl
 Archaeologist
ATTACH;FMTTYPE="image/jpeg":http://storage.ning.com/topology/rest/1.0/
 file/get/2247944516?profile=original
ATTENDEE;ROLE=REQ-PARTICIPANT;PARTSTAT=ACCEPTED;RSVP=TRUE;CN="Editor's
  Pick":https://trueskool.com/profile/RentheVinylArchaeologist
END:VEVENT
END:VCALENDAR
