BEGIN:VCALENDAR
PRODID:NingEventWidget-v1
VERSION:2.0
METHOD:PUBLISH
BEGIN:VTIMEZONE
TZID:America/Los_Angeles
X-LIC-LOCATION:America/Los_Angeles
BEGIN:DAYLIGHT
TZOFFSETFROM:-0800
TZOFFSETTO:-0700
TZNAME:PDT
DTSTART:19700308T020000
RRULE:FREQ=YEARLY;BYMONTH=3;BYDAY=2SU
END:DAYLIGHT
BEGIN:STANDARD
TZOFFSETFROM:-0700
TZOFFSETTO:-0800
TZNAME:PST
DTSTART:19701101T020000
RRULE:FREQ=YEARLY;BYMONTH=11;BYDAY=1SU
END:STANDARD
END:VTIMEZONE
BEGIN:VEVENT
UID:1464587:Event:34358
DTSTAMP:20260423T193438Z
SUMMARY:Enter The Dancehall w/ SISTER NANCY
DESCRIPTION:http://sanfrancisco.going.com/event-616681\nhttp://sanfran
 cisco.going.com/event-616681\nhttp://sanfrancisco.going.com/event-6166
 81\n\n\nFor more information visit https://trueskool.com/events/enter-
 the-dancehall-w-sister
DTSTART;TZID=America/Los_Angeles:20090627T220000
DTEND;TZID=America/Los_Angeles:20090628T020000
CATEGORIES:club, dance, hip, "hop/rap", "r&b", "80's", "90's", "reggae
 /dancehall"
LOCATION:Club 6, San Francisco cA
WEBSITE:http://www.clubsix1.com
URL:http://www.clubsix1.com
CONTACT:
ORGANIZER:DeeCee
ATTACH;FMTTYPE="image/jpeg":http://storage.ning.com/topology/rest/1.0/
 file/get/2247859806?profile=original
ATTENDEE;ROLE=REQ-PARTICIPANT;PARTSTAT=ACCEPTED;RSVP=TRUE;CN="DJ Chick
 en Skratch":https://trueskool.com/profile/DJChickenSkratch
END:VEVENT
END:VCALENDAR
