BEGIN:VCALENDAR
PRODID:NingEventWidget-v1
VERSION:2.0
METHOD:PUBLISH
BEGIN:VTIMEZONE
TZID:America/Los_Angeles
X-LIC-LOCATION:America/Los_Angeles
BEGIN:DAYLIGHT
TZOFFSETFROM:-0800
TZOFFSETTO:-0700
TZNAME:PDT
DTSTART:19700308T020000
RRULE:FREQ=YEARLY;BYMONTH=3;BYDAY=2SU
END:DAYLIGHT
BEGIN:STANDARD
TZOFFSETFROM:-0700
TZOFFSETTO:-0800
TZNAME:PST
DTSTART:19701101T020000
RRULE:FREQ=YEARLY;BYMONTH=11;BYDAY=1SU
END:STANDARD
END:VTIMEZONE
BEGIN:VEVENT
UID:1464587:Event:675101
DTSTAMP:20260421T082833Z
SUMMARY:Enchanted Forest Gathering
DESCRIPTION:ENTER TO WIN A PAIR OF TICKETS. WINNER WILL BE DRAWN RANDO
 MLY AND ANNOUNCED 2 DAYS PRIOR TO EVENT.\r\n FRIDAY-SUNDAY, JUN 8-10 E
 nchanted Forest Gathering 2018 Enchanted Forest Gathering returns to B
 lack Oak Ranch in Laytonville, California on June 8th - 10th, 2018.\r\
 nWelcome back Enchanted Forest Family! We are very excited to announce
  your new favorite weekend at Black Oak Ranch in Laytonville, Californ
 ia: June 8-10th. Our exotic, custom stages will be brought alive all n
 ight long with a truly Enchanted music lineup.\r\n\r\nFeaturing:\r\nBe
 ats Antique, Keys N Krates, Graves, Mark Farina, Ozomatli, Dumpstaphun
 k, Del the Funky Homosapien w/ Amp Live, Lyrics Born, Monophonics, DNA
  (Dov1 & Antennae), Motion Potion and more!\r\n\r\n\r\nMultiple Stages
  of Music\r\nMovement & Workshops\r\nVisual & Performance Art\r\nKidsl
 andia Daycare & More\r\n\r\n\r\n@ Black Oak Ranch, 50350 Highway 101, 
 Laytonville, CA  All Ages | 9am-2am >> BUY TICKETS\r\n Follow Us! Sta
 y Connected! We are hilarious!\r\nWebsite: http://www.enchantedforestm
 endo.com FB: https://www.facebook.com/EnchantedForestGathering/ Twitte
 r: @enchantedforestmendo Instagram: @enchantedforestgathering\n\nFor m
 ore information visit https://trueskool.com/events/enchanted-forest-ga
 thering
DTSTART;TZID=America/Los_Angeles:20180608T090000
DTEND;TZID=America/Los_Angeles:20180611T020000
CATEGORIES:"bay area", laytonville
LOCATION:Black Oak Ranch
WEBSITE:https://www.eventbrite.com/e/enchanted-forest-gathering-2018-t
 ickets-42595722954
URL:https://www.eventbrite.com/e/enchanted-forest-gathering-2018-ticke
 ts-42595722954
CONTACT:
ORGANIZER:Enchanted Forest Gathering
ATTACH;FMTTYPE="image/jpeg":http://storage.ning.com/topology/rest/1.0/
 file/get/2248005777?profile=original
ATTENDEE;ROLE=REQ-PARTICIPANT;PARTSTAT=ACCEPTED;RSVP=TRUE;CN="Editor's
  Pick":https://trueskool.com/profile/RentheVinylArchaeologist
END:VEVENT
END:VCALENDAR
