BEGIN:VCALENDAR
PRODID:NingEventWidget-v1
VERSION:2.0
METHOD:PUBLISH
BEGIN:VTIMEZONE
TZID:America/Los_Angeles
X-LIC-LOCATION:America/Los_Angeles
BEGIN:DAYLIGHT
TZOFFSETFROM:-0800
TZOFFSETTO:-0700
TZNAME:PDT
DTSTART:19700308T020000
RRULE:FREQ=YEARLY;BYMONTH=3;BYDAY=2SU
END:DAYLIGHT
BEGIN:STANDARD
TZOFFSETFROM:-0700
TZOFFSETTO:-0800
TZNAME:PST
DTSTART:19701101T020000
RRULE:FREQ=YEARLY;BYMONTH=11;BYDAY=1SU
END:STANDARD
END:VTIMEZONE
BEGIN:VEVENT
UID:1464587:Event:39197
DTSTAMP:20260421T022056Z
SUMMARY:En Vogue
DESCRIPTION:En Vogue\nOct 28-Oct 30, 2009\n\nYoshi's Oakland\n510 Emba
 rcadero West\nJack London Square\nOakland, CA 94607\nPhone: 510.238.92
 00\n\n8pm & 10pm shows $50\n\n\n\nFor more information visit https://t
 rueskool.com/events/en-vogue
DTSTART;TZID=America/Los_Angeles:20091028T200000
DTEND;TZID=America/Los_Angeles:20091030T233000
CATEGORIES:soul, "r&b"
LOCATION:Yoshi's Oakland, Oakland, CA
WEBSITE:http://www.yoshis.com/oakland/jazzclub/artist/show/926
URL:http://www.yoshis.com/oakland/jazzclub/artist/show/926
CONTACT:
ORGANIZER:Yoshi's
ATTACH;FMTTYPE="image/jpeg":http://storage.ning.com/topology/rest/1.0/
 file/get/2247864747?profile=original
ATTENDEE;ROLE=REQ-PARTICIPANT;PARTSTAT=ACCEPTED;RSVP=TRUE;CN="Editor's
  Pick":https://trueskool.com/profile/RentheVinylArchaeologist
END:VEVENT
END:VCALENDAR
