BEGIN:VCALENDAR
PRODID:NingEventWidget-v1
VERSION:2.0
METHOD:PUBLISH
BEGIN:VTIMEZONE
TZID:America/Los_Angeles
X-LIC-LOCATION:America/Los_Angeles
BEGIN:DAYLIGHT
TZOFFSETFROM:-0800
TZOFFSETTO:-0700
TZNAME:PDT
DTSTART:19700308T020000
RRULE:FREQ=YEARLY;BYMONTH=3;BYDAY=2SU
END:DAYLIGHT
BEGIN:STANDARD
TZOFFSETFROM:-0700
TZOFFSETTO:-0800
TZNAME:PST
DTSTART:19701101T020000
RRULE:FREQ=YEARLY;BYMONTH=11;BYDAY=1SU
END:STANDARD
END:VTIMEZONE
BEGIN:VEVENT
UID:1464587:Event:261021
DTSTAMP:20260421T064525Z
SUMMARY:En Vogue (WIN TICKETS)
DESCRIPTION:\n\nEn Vogue\nNov 29-Dec 1, 2013\n \nFriday, November 29 
 8pm $55 & 10pm $55\nSaturday, November 30 7:30pm $59 & 9:30pm $59\nSun
 day, December 1 7pm $55 & 9pm $49\n \n \n\nFor more information visi
 t https://trueskool.com/events/en-vogue-1
DTSTART;TZID=America/Los_Angeles:20131129T200000
DTEND;TZID=America/Los_Angeles:20131201T213000
CATEGORIES:oakland
LOCATION:Yoshi's, Oakland
WEBSITE:http://yoshis.inticketing.com/events/324920/Fri%208pm%20-%20EN
 %20VOGUE
URL:http://yoshis.inticketing.com/events/324920/Fri%208pm%20-%20EN%20V
 OGUE
CONTACT:
ORGANIZER;CN="Editor's Pick":https://trueskool.com/profile/RentheVinyl
 Archaeologist
ATTACH;FMTTYPE="image/jpeg":http://storage.ning.com/topology/rest/1.0/
 file/get/2247951597?profile=original
ATTENDEE;ROLE=REQ-PARTICIPANT;PARTSTAT=ACCEPTED;RSVP=TRUE;CN="Eric Dur
 an":https://trueskool.com/profile/EricDuran
ATTENDEE;ROLE=REQ-PARTICIPANT;PARTSTAT=ACCEPTED;RSVP=TRUE;CN="Jonathan
  Ridley":https://trueskool.com/profile/JonathanRidley
ATTENDEE;ROLE=REQ-PARTICIPANT;PARTSTAT=ACCEPTED;RSVP=TRUE;CN="Sia Rich
 ardson":https://trueskool.com/profile/SiaRichardson
ATTENDEE;ROLE=REQ-PARTICIPANT;PARTSTAT=ACCEPTED;RSVP=TRUE;CN="Dominica
  Barber":https://trueskool.com/profile/DominicaBarber
ATTENDEE;ROLE=REQ-PARTICIPANT;PARTSTAT=ACCEPTED;RSVP=TRUE;CN=Melissa:h
 ttps://trueskool.com/profile/Melissa
ATTENDEE;ROLE=REQ-PARTICIPANT;PARTSTAT=ACCEPTED;RSVP=TRUE;CN="Joseph K
 im":https://trueskool.com/profile/JosephKim
ATTENDEE;ROLE=REQ-PARTICIPANT;PARTSTAT=ACCEPTED;RSVP=TRUE;CN="Editor's
  Pick":https://trueskool.com/profile/RentheVinylArchaeologist
END:VEVENT
END:VCALENDAR
