BEGIN:VCALENDAR
PRODID:NingEventWidget-v1
VERSION:2.0
METHOD:PUBLISH
BEGIN:VTIMEZONE
TZID:America/Los_Angeles
X-LIC-LOCATION:America/Los_Angeles
BEGIN:DAYLIGHT
TZOFFSETFROM:-0800
TZOFFSETTO:-0700
TZNAME:PDT
DTSTART:19700308T020000
RRULE:FREQ=YEARLY;BYMONTH=3;BYDAY=2SU
END:DAYLIGHT
BEGIN:STANDARD
TZOFFSETFROM:-0700
TZOFFSETTO:-0800
TZNAME:PST
DTSTART:19701101T020000
RRULE:FREQ=YEARLY;BYMONTH=11;BYDAY=1SU
END:STANDARD
END:VTIMEZONE
BEGIN:VEVENT
UID:1464587:Event:38558
DTSTAMP:20260420T213147Z
SUMMARY:Emergence Music Series SF -- Featuring Kev Choice Ensemble and
  J Myers
DESCRIPTION:\n\nEmergence Music Series SF -- Featuring Kev Choice Ense
 mble and J Myers\n\nTwo of the Most Talented “Live Urban” Artists 
 Around Throw Down in Concert\n\nHip-hop’s emerging musicality contin
 ues to advance with Emergence Music Series’ fifth independently-prod
 uced showcase featuring two of the most dynamic hip-hop musicians arou
 nd. Headliner Kev Choice, former musical director for Lauryn Hill and 
 winner of the 2009 East Bay Express readers’ poll for “Best Musici
 an” combines conscious, progressive and authentic lyricism with seri
 ous jazz, funk, soul and R&B chops, delivered onstage by the full, ten
 -piece edition of the Kev Choice Ensemble, a collective of some of the
  Bay’s most talented-up and coming musicians/producers/artists in th
 eir own right. Guitarist, emcee, singer and producer J Myers, who prod
 uced two tracks on Nas' most recent album and was featured as a spotli
 ght artist on \"BET’s 106 & Park\" brings musical influences from Er
 nie Isley to Tony Toni Tone to his original, soul-infused sound. With 
 talents such as these, plus DJ BeatsMe (Distortion 2 Static), Emergenc
 e SF is a can’t-miss show which brings live music back to the foregr
 ound of the urban club scene. The concert will also be webcasted by Ge
 rshoni Sound and featured on LiveVenu.com, making Emergence accessible
  via Internet streaming to music fans outside of the Bay Area.\n\nBUY 
 TICKETS $10 Advance, $12 Doors\n\nSponsored by\nFusicology, ZSAZSA INC
 , True Skool, Distortion 2 Static, Spicey Promotions, Live Venu & Gers
 honi Sound\n\nFor more information visit https://trueskool.com/events/
 emergence-music-series-sf
DTSTART;TZID=America/Los_Angeles:20090822T220000
DTEND;TZID=America/Los_Angeles:20090823T020000
CATEGORIES:live, hip-hop, jazz, soul, funk
LOCATION:Elbo room, San Francisco
WEBSITE:
URL:
CONTACT:
ORGANIZER:ZSAZSA, INC
ATTACH;FMTTYPE="image/jpeg":http://storage.ning.com/topology/rest/1.0/
 file/get/2247860295?profile=original
ATTENDEE;ROLE=REQ-PARTICIPANT;PARTSTAT=ACCEPTED;RSVP=TRUE;CN="ZSA-ZSA 
 INC":https://trueskool.com/profile/ZSAZSAINC
ATTENDEE;ROLE=REQ-PARTICIPANT;PARTSTAT=TENTATIVE;RSVP=TRUE;CN="Aqueila
  M. Lewis":https://trueskool.com/profile/AqueilaMLewis
END:VEVENT
END:VCALENDAR
