BEGIN:VCALENDAR
PRODID:NingEventWidget-v1
VERSION:2.0
METHOD:PUBLISH
BEGIN:VTIMEZONE
TZID:America/Los_Angeles
X-LIC-LOCATION:America/Los_Angeles
BEGIN:DAYLIGHT
TZOFFSETFROM:-0800
TZOFFSETTO:-0700
TZNAME:PDT
DTSTART:19700308T020000
RRULE:FREQ=YEARLY;BYMONTH=3;BYDAY=2SU
END:DAYLIGHT
BEGIN:STANDARD
TZOFFSETFROM:-0700
TZOFFSETTO:-0800
TZNAME:PST
DTSTART:19701101T020000
RRULE:FREQ=YEARLY;BYMONTH=11;BYDAY=1SU
END:STANDARD
END:VTIMEZONE
BEGIN:VEVENT
UID:1464587:Event:314749
DTSTAMP:20260420T232413Z
SUMMARY:Embrace the Bass feat. DJ Lord (Public Enemy), Ren the Vinyl A
 rchaeologist, Rocker T...
DESCRIPTION: FRIDAY, FEB 21\nVÎ£â„µUÂ§ â‚±RÎ¦DUÂ¢TIâˆ…â„µÂ§ â‚±RÎ£$Î£â
 „µTÂ§:\nÎ£Î¼Î²RACÎ£ Ï„HÎ£ Î²AÅœÅœ\nfeaturing: â™¦ DJ LORD of Public En
 emy \nâ™¦ DJUNYA (Low Dubs/Aorta)\nâ™¦ Cruz (Venus)\nâ™¦ DJ CENTIPEDE 
 of MOPHONO (CB Records)\nâ™¦ Ren the Vinyl Archaeologist (True Skool)\
 nâ™¦ Rocker-T (Jah Warrior Shelter)\nâ™¦ Lud Dub (Cosmic Vibe)\nâ™¦ DJ
  Malachi (Luv Luv Radio)\nâ™¦ Reid Richards - Master of Ceremonies\nâ¬
 ‡ $15 Pre Sales available // $25 at the door â¬‡\nhttps://djlordoaklan
 dunderground.eventbrite.com/\nâ–º 10pm - 5am â–º 21+\nâ–º Carousel bal
 lroom dance floor\nâ–º Two rooms of epic music\nâ–º Big outdoor chill/
 smoking area\n~~~~~Directions to be posted here the night of the event
 \nTaking the quality of the underground music scene to the next level,
  the Ancient Youth Audio Void Sound System is back again and ready to 
 blast a variety of genres including Reggae, Trap, Hip Hop, Future Bass
 , & Juke. Ancientyouth Soundsystem exclusively utilizes Void Audio Spe
 akers to provide the most incredible listening experience available to
 day and are used in some of the top clubs in the world, as well as som
 e of the biggest festivals. Come out to party under the stars, dance i
 n a one-of-a-kind carousel ball room dance hall, and wander around to 
 catch live artists and dancers tappin' into the flow throughout the ni
 ght.\n\nFor more information visit https://trueskool.com/events/embrac
 e-the-bass-feat-dj-lord-public-enemy-ren-the-vinyl-archaeol
DTSTART;TZID=America/Los_Angeles:20140221T220000
DTEND;TZID=America/Los_Angeles:20140222T050000
CATEGORIES:"bay area", oakland
LOCATION:Secret underground location, Oakland
WEBSITE:https://djlordoaklandunderground.eventbrite.com/
URL:https://djlordoaklandunderground.eventbrite.com/
CONTACT:
ORGANIZER:VÎ£â„µUÂ§ â‚±RÎ¦DUÂ¢TIâˆ…â„µÂ§
ATTACH;FMTTYPE="image/jpeg":http://storage.ning.com/topology/rest/1.0/
 file/get/2247957512?profile=original
ATTENDEE;ROLE=REQ-PARTICIPANT;PARTSTAT=ACCEPTED;RSVP=TRUE;CN="Carolina
  Quijano":https://trueskool.com/profile/CarolinaQuijano
ATTENDEE;ROLE=REQ-PARTICIPANT;PARTSTAT=ACCEPTED;RSVP=TRUE;CN="Editor's
  Pick":https://trueskool.com/profile/RentheVinylArchaeologist
END:VEVENT
END:VCALENDAR
