BEGIN:VCALENDAR
PRODID:NingEventWidget-v1
VERSION:2.0
METHOD:PUBLISH
BEGIN:VTIMEZONE
TZID:America/Los_Angeles
X-LIC-LOCATION:America/Los_Angeles
BEGIN:DAYLIGHT
TZOFFSETFROM:-0800
TZOFFSETTO:-0700
TZNAME:PDT
DTSTART:19700308T020000
RRULE:FREQ=YEARLY;BYMONTH=3;BYDAY=2SU
END:DAYLIGHT
BEGIN:STANDARD
TZOFFSETFROM:-0700
TZOFFSETTO:-0800
TZNAME:PST
DTSTART:19701101T020000
RRULE:FREQ=YEARLY;BYMONTH=11;BYDAY=1SU
END:STANDARD
END:VTIMEZONE
BEGIN:VEVENT
UID:1464587:Event:288474
DTSTAMP:20260420T231323Z
SUMMARY:Elevation w/ DJ Jah Yzer @ Layover, Oakland (Friday 1/3)
DESCRIPTION:\nFRIDAY, JAN 3 True Skool & Layover present\nElevation (S
 pecial Edition)\nA musical excursion takin you on a higher plane\n\nWi
 th your pilots\nDJ Jah Yzer\nelevating your mind, body & soul with a m
 ix of Hip hop classics, reggae, funk...\n\n@ The Layover, 1517 Frankin
  St, Oakland\nNo cover, 21+, 10pm-2am\nInfo: http://www.trueskool.com
 \n \n\nGolden Era Mix by Ren The Vinyl Archaeologist on Mixcloud\n\n\n
 \nFor more information visit https://trueskool.com/events/elevation-w-
 dj-jah-yzer-layover-oakland-friday-1-3
DTSTART;TZID=America/Los_Angeles:20140103T220000
DTEND;TZID=America/Los_Angeles:20140104T020000
CATEGORIES:"bay area", "san francisco"
LOCATION:The Layover, Oakland, CA
WEBSITE:http://maps.google.com/maps?q=1517+Franklin+Street,+Oakland,+C
 A&hl=en&sll=37.0625,-95.677068&sspn=56.06887,89.560547&t=h&z=17
URL:http://maps.google.com/maps?q=1517+Franklin+Street,+Oakland,+CA&hl
 =en&sll=37.0625,-95.677068&sspn=56.06887,89.560547&t=h&z=17
CONTACT:
ORGANIZER:True Skool & Layover
ATTACH;FMTTYPE="image/jpeg":http://storage.ning.com/topology/rest/1.0/
 file/get/2247935104?profile=original
ATTENDEE;ROLE=REQ-PARTICIPANT;PARTSTAT=ACCEPTED;RSVP=TRUE;CN="Staff Pi
 ck":https://trueskool.com/profile/Ren
END:VEVENT
END:VCALENDAR
