BEGIN:VCALENDAR
PRODID:NingEventWidget-v1
VERSION:2.0
METHOD:PUBLISH
BEGIN:VTIMEZONE
TZID:America/Los_Angeles
X-LIC-LOCATION:America/Los_Angeles
BEGIN:DAYLIGHT
TZOFFSETFROM:-0800
TZOFFSETTO:-0700
TZNAME:PDT
DTSTART:19700308T020000
RRULE:FREQ=YEARLY;BYMONTH=3;BYDAY=2SU
END:DAYLIGHT
BEGIN:STANDARD
TZOFFSETFROM:-0700
TZOFFSETTO:-0800
TZNAME:PST
DTSTART:19701101T020000
RRULE:FREQ=YEARLY;BYMONTH=11;BYDAY=1SU
END:STANDARD
END:VTIMEZONE
BEGIN:VEVENT
UID:1464587:Event:285090
DTSTAMP:20260421T043501Z
SUMMARY:# Elegant White Affair. December 28th @ Shadow Ultra Lounge.Oa
 kland.Ca
DESCRIPTION:Sky Concepts present\n# Elegant Winter White Affair\nFeatu
 ring DJ Jayhists and Special Guest Dj\nThe mark of a new era as we cel
 ebrate, people whose birthday are from January to December, with Speci
 al Birthday bash for Sagittarius and Capricorn at Newly renovated upsc
 ale venue in town with friendly service, Shadow Ultra Lounge (former M
 axwell) located at 341 13th Street( at Webster St.)Oakland California.
  hosted by Sky concepts and crew. Saturday December 28th | 21 and up|D
 ress code { White }. The venue has great food, vodka, wine assorted dr
 inks, Guinness, Heineken, Champagne and E.T.C. The music are Sexy R & 
 B, Reggae, Afro-beat, Hip Hop, pop, electro .Thanks hope to see you at
  the event. Lets celebrate the last Saturday of 2013.\n\nFor more info
 rmation visit https://trueskool.com/events/elegant-white-affair-decemb
 er-28th-shadow-ultra-lounge-oakland
DTSTART;TZID=America/Los_Angeles:20131228T210000
DTEND;TZID=America/Los_Angeles:20131229T020000
CATEGORIES:san, francisco, oakland, hayward, jose, richmond, leandro, 
 el, cerito
LOCATION:Shadow Ultra Lounge
WEBSITE:http://elegantallwhiteparty.eventbrite.com
URL:http://elegantallwhiteparty.eventbrite.com
CONTACT:415-240-6826
ORGANIZER;CN=Oscar:https://trueskool.com/profile/Oscar
ATTACH;FMTTYPE="image/jpeg":http://storage.ning.com/topology/rest/1.0/
 file/get/2247956011?profile=original
ATTENDEE;ROLE=REQ-PARTICIPANT;PARTSTAT=ACCEPTED;RSVP=TRUE;CN=Oscar:htt
 ps://trueskool.com/profile/Oscar
END:VEVENT
END:VCALENDAR
