BEGIN:VCALENDAR
PRODID:NingEventWidget-v1
VERSION:2.0
METHOD:PUBLISH
BEGIN:VTIMEZONE
TZID:America/Los_Angeles
X-LIC-LOCATION:America/Los_Angeles
BEGIN:DAYLIGHT
TZOFFSETFROM:-0800
TZOFFSETTO:-0700
TZNAME:PDT
DTSTART:19700308T020000
RRULE:FREQ=YEARLY;BYMONTH=3;BYDAY=2SU
END:DAYLIGHT
BEGIN:STANDARD
TZOFFSETFROM:-0700
TZOFFSETTO:-0800
TZNAME:PST
DTSTART:19701101T020000
RRULE:FREQ=YEARLY;BYMONTH=11;BYDAY=1SU
END:STANDARD
END:VTIMEZONE
BEGIN:VEVENT
UID:1464587:Event:41915
DTSTAMP:20260420T213040Z
SUMMARY:ELECTRIC RELAXATION
DESCRIPTION:\n\nCome join us for our third installment of.....\n\n.:.E
 LECTRIC RELAXATION.:.\n\n**Oct. 24th**\n\nGOLDEN ERA HIPHOP | R&B | DA
 NCEHALL\n\nRESIDENTS:\nOwl Boogie (Action Figures, http://www.owlboogi
 e.com)\nun.d.fine (http://soulnice.wordpress.com/)\n\n5$ all nite!\n21
 +\nDoors @ 10pm\n\nSHATTUCK DOWNLOW\n2284 Shattuck Ave.\n\nFor more in
 formation visit https://trueskool.com/events/electric-relaxation
DTSTART;TZID=America/Los_Angeles:20091024T220000
DTEND;TZID=America/Los_Angeles:20091025T020000
CATEGORIES:golden, era, hiphop, "|", "r&b", dancehall
LOCATION:SHATTUCK DOWNLOW, BERKELEY, CA
WEBSITE:http://www.facebook.com/share.php?appid=2344061033&src=box&tid
 =155178287698&u=http%3A%2F%2Fwww.youtube.com%2Fwatch%3Fv%3DS00JkAwSlCg
 #/event.php?eid=155178287698
URL:http://www.facebook.com/share.php?appid=2344061033&src=box&tid=155
 178287698&u=http%3A%2F%2Fwww.youtube.com%2Fwatch%3Fv%3DS00JkAwSlCg#/ev
 ent.php?eid=155178287698
CONTACT:
ORGANIZER;CN="dj undfine":https://trueskool.com/profile/djundfine
ATTACH;FMTTYPE="image/jpeg":http://storage.ning.com/topology/rest/1.0/
 file/get/2247869545?profile=original
ATTENDEE;ROLE=REQ-PARTICIPANT;PARTSTAT=ACCEPTED;RSVP=TRUE;CN="dj undfi
 ne":https://trueskool.com/profile/djundfine
END:VEVENT
END:VCALENDAR
