BEGIN:VCALENDAR
PRODID:NingEventWidget-v1
VERSION:2.0
METHOD:PUBLISH
BEGIN:VTIMEZONE
TZID:America/Los_Angeles
X-LIC-LOCATION:America/Los_Angeles
BEGIN:DAYLIGHT
TZOFFSETFROM:-0800
TZOFFSETTO:-0700
TZNAME:PDT
DTSTART:19700308T020000
RRULE:FREQ=YEARLY;BYMONTH=3;BYDAY=2SU
END:DAYLIGHT
BEGIN:STANDARD
TZOFFSETFROM:-0700
TZOFFSETTO:-0800
TZNAME:PST
DTSTART:19701101T020000
RRULE:FREQ=YEARLY;BYMONTH=11;BYDAY=1SU
END:STANDARD
END:VTIMEZONE
BEGIN:VEVENT
UID:1464587:Event:654268
DTSTAMP:20260422T031130Z
SUMMARY:EL DEBARGE
DESCRIPTION:EL DEBARGESunday Dec 4, 2016Doors: 5:30 PM Show: 6:00 PM$5
 9 - $89\nYoshi's Oakland510 Embarcadero West Oakland, CA\n\nFor more i
 nformation visit https://trueskool.com/events/el-debarge
DTSTART;TZID=America/Los_Angeles:20161204T180000
DTEND;TZID=America/Los_Angeles:20161204T210000
CATEGORIES:"san francisco", oakland, berkley, "san jose", "bay area"
LOCATION:Yoshi's, Oakland
WEBSITE:https://www.ticketfly.com/purchase/event/1328523?_ga=1.2129188
 04.1447988421.1472069588&__utma=1.1569012654.1472069588.1475139573.147
 5139645.4&__utmb=1.7.10.1475139645&__utmc=1&__utmx=-&__utmz=1.14751396
 45.4.2.utmcsr=google|utmccn=(organic)|utmcmd=organic|utmctr=(not%20pro
 vided)&__utmv=-&__utmk=192164778
URL:https://www.ticketfly.com/purchase/event/1328523?_ga=1.212918804.1
 447988421.1472069588&__utma=1.1569012654.1472069588.1475139573.1475139
 645.4&__utmb=1.7.10.1475139645&__utmc=1&__utmx=-&__utmz=1.1475139645.4
 .2.utmcsr=google|utmccn=(organic)|utmcmd=organic|utmctr=(not%20provide
 d)&__utmv=-&__utmk=192164778
CONTACT:
ORGANIZER;CN="Editor's Pick":https://trueskool.com/profile/RentheVinyl
 Archaeologist
ATTACH;FMTTYPE="image/jpeg":http://storage.ning.com/topology/rest/1.0/
 file/get/2247991975?profile=original
ATTENDEE;ROLE=REQ-PARTICIPANT;PARTSTAT=ACCEPTED;RSVP=TRUE;CN="Editor's
  Pick":https://trueskool.com/profile/RentheVinylArchaeologist
END:VEVENT
END:VCALENDAR
