BEGIN:VCALENDAR
PRODID:NingEventWidget-v1
VERSION:2.0
METHOD:PUBLISH
BEGIN:VTIMEZONE
TZID:America/Los_Angeles
X-LIC-LOCATION:America/Los_Angeles
BEGIN:DAYLIGHT
TZOFFSETFROM:-0800
TZOFFSETTO:-0700
TZNAME:PDT
DTSTART:19700308T020000
RRULE:FREQ=YEARLY;BYMONTH=3;BYDAY=2SU
END:DAYLIGHT
BEGIN:STANDARD
TZOFFSETFROM:-0700
TZOFFSETTO:-0800
TZNAME:PST
DTSTART:19701101T020000
RRULE:FREQ=YEARLY;BYMONTH=11;BYDAY=1SU
END:STANDARD
END:VTIMEZONE
BEGIN:VEVENT
UID:1464587:Event:28723
DTSTAMP:20260421T034237Z
SUMMARY:Eek-A-Mouse
DESCRIPTION:Eek-A-Mouse\nXsample featuring Double Lion Band\n\nSlim's\
 n333 11th St\nSan Francisco, CA\n94103-4313, US\n(415) 255-0333\n9:00 
 PM ($20/$22)\n\nFor more information visit https://trueskool.com/event
 s/eekamouse-2
DTSTART;TZID=America/Los_Angeles:20090504T210000
DTEND;TZID=America/Los_Angeles:20090505T020000
CATEGORIES:reggae, roots
LOCATION:Slim's, San Francisco
WEBSITE:http://www.slims-sf.com/
URL:http://www.slims-sf.com/
CONTACT:
ORGANIZER:Slim's
ATTACH;FMTTYPE="image/jpeg":http://storage.ning.com/topology/rest/1.0/
 file/get/2247849452?profile=original
ATTENDEE;ROLE=REQ-PARTICIPANT;PARTSTAT=ACCEPTED;RSVP=TRUE;CN="Ren the 
 Vinyl Archaeologist":https://trueskool.com/profile/xh51jvilojur
END:VEVENT
END:VCALENDAR
